BEGIN:VCALENDAR
VERSION:2.0
PRODID:-//Cámara de Comercio Exterior de Costa Rica y de Representantes de Casas Extranjeras - ECPv6.15.20//NONSGML v1.0//EN
CALSCALE:GREGORIAN
METHOD:PUBLISH
X-WR-CALNAME:Cámara de Comercio Exterior de Costa Rica y de Representantes de Casas Extranjeras
X-ORIGINAL-URL:https://crecex.com
X-WR-CALDESC:Eventos para Cámara de Comercio Exterior de Costa Rica y de Representantes de Casas Extranjeras
REFRESH-INTERVAL;VALUE=DURATION:PT1H
X-Robots-Tag:noindex
X-PUBLISHED-TTL:PT1H
BEGIN:VTIMEZONE
TZID:America/Chicago
BEGIN:DAYLIGHT
TZOFFSETFROM:-0600
TZOFFSETTO:-0500
TZNAME:CDT
DTSTART:20240310T080000
END:DAYLIGHT
BEGIN:STANDARD
TZOFFSETFROM:-0500
TZOFFSETTO:-0600
TZNAME:CST
DTSTART:20241103T070000
END:STANDARD
BEGIN:DAYLIGHT
TZOFFSETFROM:-0600
TZOFFSETTO:-0500
TZNAME:CDT
DTSTART:20250309T080000
END:DAYLIGHT
BEGIN:STANDARD
TZOFFSETFROM:-0500
TZOFFSETTO:-0600
TZNAME:CST
DTSTART:20251102T070000
END:STANDARD
BEGIN:DAYLIGHT
TZOFFSETFROM:-0600
TZOFFSETTO:-0500
TZNAME:CDT
DTSTART:20260308T080000
END:DAYLIGHT
BEGIN:STANDARD
TZOFFSETFROM:-0500
TZOFFSETTO:-0600
TZNAME:CST
DTSTART:20261101T070000
END:STANDARD
END:VTIMEZONE
BEGIN:VEVENT
DTSTART;TZID=America/Chicago:20251016T090000
DTEND;TZID=America/Chicago:20251016T223000
DTSTAMP:20260424T013721
CREATED:20251013T043142Z
LAST-MODIFIED:20251012T225208Z
UID:7044-1760605200-1760653800@crecex.com
SUMMARY:Charla Estrategias efectivas para la Contratación y Retención de Talento
DESCRIPTION:📍 Virtual vía Zoom\n🗓 Fecha: 16 de octubre\, 2025\n🕘 Horario: 9:00 am a 10:30 am \n💼 Inversión: \n\nAsociados ₡25.000 + 2% IVA\nNo Asociados ₡35.000 + 2% IVA\n\n  \n📩 Inscripciones:\nformacion@crecex.com\n📞8478-4349 | 2253-0126 ext. 118 \n📣 ¡Consulte por capacitaciones personalizadas!
URL:https://crecex.com/evento/charla-estrategias-efectivas-para-la-contratacion-y-retencion-de-talento/
CATEGORIES:Capacitaciones Formación Empresarial,Charla
ATTACH;FMTTYPE=image/jpeg:https://crecex.com/wp-content/uploads/2025/10/ESTRATEGIAS-EFECTIVAS-PARA-LA-CONTRATACION-Y-RETENCION-DE-TALENTO-16-OCTUBRE.jpg
ORGANIZER;CN="CRECEX":MAILTO:formacion@crecex.com
END:VEVENT
END:VCALENDAR