BEGIN:VCALENDAR
VERSION:2.0
PRODID:-//Cámara de Comercio Exterior de Costa Rica y de Representantes de Casas Extranjeras - ECPv6.15.20//NONSGML v1.0//EN
CALSCALE:GREGORIAN
METHOD:PUBLISH
X-WR-CALNAME:Cámara de Comercio Exterior de Costa Rica y de Representantes de Casas Extranjeras
X-ORIGINAL-URL:https://crecex.com
X-WR-CALDESC:Eventos para Cámara de Comercio Exterior de Costa Rica y de Representantes de Casas Extranjeras
REFRESH-INTERVAL;VALUE=DURATION:PT1H
X-Robots-Tag:noindex
X-PUBLISHED-TTL:PT1H
BEGIN:VTIMEZONE
TZID:America/Chicago
BEGIN:DAYLIGHT
TZOFFSETFROM:-0600
TZOFFSETTO:-0500
TZNAME:CDT
DTSTART:20250309T080000
END:DAYLIGHT
BEGIN:STANDARD
TZOFFSETFROM:-0500
TZOFFSETTO:-0600
TZNAME:CST
DTSTART:20251102T070000
END:STANDARD
BEGIN:DAYLIGHT
TZOFFSETFROM:-0600
TZOFFSETTO:-0500
TZNAME:CDT
DTSTART:20260308T080000
END:DAYLIGHT
BEGIN:STANDARD
TZOFFSETFROM:-0500
TZOFFSETTO:-0600
TZNAME:CST
DTSTART:20261101T070000
END:STANDARD
BEGIN:DAYLIGHT
TZOFFSETFROM:-0600
TZOFFSETTO:-0500
TZNAME:CDT
DTSTART:20270314T080000
END:DAYLIGHT
BEGIN:STANDARD
TZOFFSETFROM:-0500
TZOFFSETTO:-0600
TZNAME:CST
DTSTART:20271107T070000
END:STANDARD
END:VTIMEZONE
BEGIN:VEVENT
DTSTART;TZID=America/Chicago:20260421T103000
DTEND;TZID=America/Chicago:20260421T150000
DTSTAMP:20260423T161210
CREATED:20260416T172823Z
LAST-MODIFIED:20260416T172823Z
UID:12846-1776767400-1776783600@crecex.com
SUMMARY:Explore las tendencias\, oportunidades de crecimiento e inversión en Ciencias de la Vida en Costa Rica y Centroamérica.
DESCRIPTION:EYCare será el punto de convergencia donde la ciencia con propósito\, la innovación y el bienestar se integran para impulsar conversaciones que están redefiniendo el futuro de las Ciencias de la Vida.Viviremos una experiencia única junto a líderes que hoy influyen y transforman la agenda del sector a nivel global\, regional y local:Héctor Rivera\, Arda Ural y Leandro Berbert\, referentes de EY en Ciencias de la Vida.Fecha: 21 de abril de 2026Lugar: Hotel Marriott\, Belén\, Costa RicaUn espacio para conectar ideas\, reflexionar en conjunto y reafirmar el impacto real que podemos generar en la vida de las personas.Acompáñenos y sea parte de EYCare.Inscríbase en el siguiente link: EYCare: ciencia con propósito\, innovación y bienestar
URL:https://crecex.com/evento/explore-las-tendencias-oportunidades-de-crecimiento-e-inversion-en-ciencias-de-la-vida-en-costa-rica-y-centroamerica/
CATEGORIES:Charla
ATTACH;FMTTYPE=image/jpeg:https://crecex.com/wp-content/uploads/2026/04/Explore-las-tendencias-oportunidades-de-crecimiento-e-inversion-en-Ciencias-de-la-Vida-en-Costa-Rica-y-Centroamerica.jpg
END:VEVENT
END:VCALENDAR