BEGIN:VCALENDAR
VERSION:2.0
PRODID:-//Cámara de Comercio Exterior de Costa Rica y de Representantes de Casas Extranjeras - ECPv6.15.20//NONSGML v1.0//EN
CALSCALE:GREGORIAN
METHOD:PUBLISH
X-ORIGINAL-URL:https://crecex.com
X-WR-CALDESC:Eventos para Cámara de Comercio Exterior de Costa Rica y de Representantes de Casas Extranjeras
REFRESH-INTERVAL;VALUE=DURATION:PT1H
X-Robots-Tag:noindex
X-PUBLISHED-TTL:PT1H
BEGIN:VTIMEZONE
TZID:America/Chicago
BEGIN:DAYLIGHT
TZOFFSETFROM:-0600
TZOFFSETTO:-0500
TZNAME:CDT
DTSTART:20240310T080000
END:DAYLIGHT
BEGIN:STANDARD
TZOFFSETFROM:-0500
TZOFFSETTO:-0600
TZNAME:CST
DTSTART:20241103T070000
END:STANDARD
BEGIN:DAYLIGHT
TZOFFSETFROM:-0600
TZOFFSETTO:-0500
TZNAME:CDT
DTSTART:20250309T080000
END:DAYLIGHT
BEGIN:STANDARD
TZOFFSETFROM:-0500
TZOFFSETTO:-0600
TZNAME:CST
DTSTART:20251102T070000
END:STANDARD
BEGIN:DAYLIGHT
TZOFFSETFROM:-0600
TZOFFSETTO:-0500
TZNAME:CDT
DTSTART:20260308T080000
END:DAYLIGHT
BEGIN:STANDARD
TZOFFSETFROM:-0500
TZOFFSETTO:-0600
TZNAME:CST
DTSTART:20261101T070000
END:STANDARD
END:VTIMEZONE
BEGIN:VEVENT
DTSTART;TZID=America/Chicago:20251128T000000
DTEND;TZID=America/Chicago:20251203T000000
DTSTAMP:20260423T195019
CREATED:20251017T164919Z
LAST-MODIFIED:20251017T164943Z
UID:7126-1764288000-1764720000@crecex.com
SUMMARY:Greater New York Dental Meeting 2025
DESCRIPTION:🦷 Greater New York Dental Meeting 2025\nFecha: 28 de noviembre al 3 de diciembre de 2025Lugar: Jacob K. Javits Convention Center\, Nueva York\, Estados Unidos \n¡Participe en uno de los congresos dentales más importantes del mundo!\nEl Greater New York Dental Meeting (GNYDM) es uno de los eventos odontológicos internacionales más reconocidos en el continente americano. Esta feria y congreso\, que se realiza cada año en Nueva York\, reúne a miles de profesionales de la salud dental\, fabricantes\, distribuidores\, académicos y tomadores de decisiones de todo el mundo. \nEn su edición 2025\, el GNYDM se celebrará del 28 de noviembre al 3 de diciembre en el reconocido Jacob K. Javits Convention Center\, con fechas de exhibición del 30 de noviembre al 3 de diciembre. Esta es una excelente oportunidad para explorar tendencias globales\, innovaciones tecnológicas\, materiales dentales de última generación y establecer contactos comerciales estratégicos en el mercado norteamericano. \n¿Por qué participar?\n\n\nMás de 30\,000 asistentes profesionales del sector dental. \n\n\nAcceso a seminarios\, talleres prácticos y demostraciones clínicas. \n\n\nParticipación de más de 1\,600 empresas expositoras internacionales. \n\n\nOportunidad de conectar con líderes de opinión\, fabricantes y distribuidores clave del sector. \n\n\nActividades educativas continuas en áreas como ortodoncia\, implantología\, salud digital\, impresión 3D\, y más. \n\n\nIdeal para:\n\n\nEmpresas del sector dental que deseen expandirse a EE. UU. \n\n\nProfesionales en búsqueda de actualización y networking. \n\n\nInstituciones académicas\, laboratorios y distribuidores en América Latina. \n\n\nCRECEX le invita a ser parte de esta gran experiencia internacional. Si está interesado en asistir o participar como expositor\, contáctenos para conocer los detalles y beneficios exclusivos para nuestros asociados. \n📩 [Escríbanos aquí] o visítenos en www.crecex.com para más información.
URL:https://crecex.com/evento/greater-new-york-dental-meeting-2025/
CATEGORIES:Comercio Exterior
ATTACH;FMTTYPE=image/jpeg:https://crecex.com/wp-content/uploads/2025/10/dental-newyork-768x488-1.jpg
END:VEVENT
BEGIN:VEVENT
DTSTART;TZID=America/Chicago:20251202T000000
DTEND;TZID=America/Chicago:20251203T000000
DTSTAMP:20260423T195019
CREATED:20251014T230245Z
LAST-MODIFIED:20251014T230245Z
UID:7121-1764633600-1764720000@crecex.com
SUMMARY:Exposición Mundial de Origen Vegetal Norteamérica 2025
DESCRIPTION:🌱 Reapertura de inscripciones\nExposición Mundial de Origen Vegetal Norteamérica 2025\n📍 2 y 3 de diciembre – Nueva York\, Estados Unidos \n📞 ¿Dudas? ¡Cuenta con nosotros!\nApexBrasil – Relaciones con los Clientes📞 +55 61 2027 0202📠 +55 61 2027 0203📧 apexbrasil@apexbrasil.com.br🌐 www.apexbrasil.com.br📍 Brasilia – DF\, CEP 70040-250
URL:https://crecex.com/evento/exposicion-mundial-de-origen-vegetal-norteamerica-2025/
CATEGORIES:Comercio Exterior
ATTACH;FMTTYPE=image/jpeg:https://crecex.com/wp-content/uploads/2025/10/Exposicion-Mundial-de-Origen-Vegetal-Norteamerica-2025.jpeg
END:VEVENT
BEGIN:VEVENT
DTSTART;TZID=America/Chicago:20251210T093000
DTEND;TZID=America/Chicago:20251210T113000
DTSTAMP:20260423T195019
CREATED:20251128T172235Z
LAST-MODIFIED:20251128T172540Z
UID:8054-1765359000-1765366200@crecex.com
SUMMARY:Rumbo 2026: El Nuevo Mapa del Comercio y la Logística Global
DESCRIPTION:Rumbo 2026: El Nuevo Mapa del Comercio y la Logística Global \n\n\nEl comercio internacional entra en una nueva etapa marcada por guerras arancelarias\, regulaciones ambientales y disrupciones logísticas.\n¿Está su empresa lista para lo que viene?\n\n\nParticipe en la charla organizada por CRECEX y descubra cómo prepararse ante los cambios que definirán el comercio exterior en 2026.\n\n\nInversión:\n$75 + IVA ASOCIADOS\n\n$100 + IVA NO ASOCIADOS\n\n\n\n\nTemas clave:\n Impacto de la guerra arancelaria de EE. UU.\n Nuevas exigencias del EUDR y CBAM\n Transformación digital aduanera con el proyecto ATENA\n Escenarios y oportunidades comerciales 2026\n\n\n Inscríbase hoy con CRECEX y anticípese al cambio: https://forms.gle/exqZ7YKcxMvwTctb8
URL:https://crecex.com/evento/rumbo-2026-el-nuevo-mapa-del-comercio-y-la-logistica-global/
CATEGORIES:Comercio Exterior,Eventos CRECEX,Webinars
ATTACH;FMTTYPE=image/jpeg:https://crecex.com/wp-content/uploads/2025/11/Rumbo-2026-El-Nuevo-Mapa-del-Comercio-y-la-Logistica-Global.jpg
ORGANIZER;CN="CRECEX":MAILTO:formacion@crecex.com
END:VEVENT
BEGIN:VEVENT
DTSTART;TZID=America/Chicago:20251216T080000
DTEND;TZID=America/Chicago:20251216T110000
DTSTAMP:20260423T195019
CREATED:20251128T172955Z
LAST-MODIFIED:20251128T173428Z
UID:8058-1765872000-1765882800@crecex.com
SUMMARY:Desayuno de Exposición de Expocomer y Expo Logística Panamá
DESCRIPTION:¡Acompáñenos al Desayuno de Exposición de Expocomer y Expo Logística Panamá! / Evento gratuito \nUna oportunidad para conectar con nuevos proveedores\, explorar mercados y conocer cómo participar en estas ferias de alto impacto. \n📅 16 de diciembre ⏰ 8:00 a.m. \n📍 Hotel Radisson\, San José \n  \nConfirme su asistencia: https://forms.gle/Tv7fHcBMUpyJMM4Y7
URL:https://crecex.com/evento/desayuno-de-exposicion-de-expocomer-y-expo-logistica-panama/
LOCATION:Hotel Radisson San José\, Radisson San Jose-Costa Rica Calle Central\, y Tercera\, San José\, 10604\, San José\, San José\, Costa Rica
CATEGORIES:Comercio Exterior,Eventos CRECEX
ATTACH;FMTTYPE=image/jpeg:https://crecex.com/wp-content/uploads/2025/11/Desayuno-de-Exposicion-de-Expocomer-y-Expo-Logistica-Panama.jpeg
ORGANIZER;CN="CRECEX":MAILTO:formacion@crecex.com
END:VEVENT
END:VCALENDAR