BEGIN:VCALENDAR
VERSION:2.0
PRODID:-//Cámara de Comercio Exterior de Costa Rica y de Representantes de Casas Extranjeras - ECPv6.15.20//NONSGML v1.0//EN
CALSCALE:GREGORIAN
METHOD:PUBLISH
X-ORIGINAL-URL:https://crecex.com
X-WR-CALDESC:Eventos para Cámara de Comercio Exterior de Costa Rica y de Representantes de Casas Extranjeras
REFRESH-INTERVAL;VALUE=DURATION:PT1H
X-Robots-Tag:noindex
X-PUBLISHED-TTL:PT1H
BEGIN:VTIMEZONE
TZID:America/Chicago
BEGIN:DAYLIGHT
TZOFFSETFROM:-0600
TZOFFSETTO:-0500
TZNAME:CDT
DTSTART:20240310T080000
END:DAYLIGHT
BEGIN:STANDARD
TZOFFSETFROM:-0500
TZOFFSETTO:-0600
TZNAME:CST
DTSTART:20241103T070000
END:STANDARD
BEGIN:DAYLIGHT
TZOFFSETFROM:-0600
TZOFFSETTO:-0500
TZNAME:CDT
DTSTART:20250309T080000
END:DAYLIGHT
BEGIN:STANDARD
TZOFFSETFROM:-0500
TZOFFSETTO:-0600
TZNAME:CST
DTSTART:20251102T070000
END:STANDARD
BEGIN:DAYLIGHT
TZOFFSETFROM:-0600
TZOFFSETTO:-0500
TZNAME:CDT
DTSTART:20260308T080000
END:DAYLIGHT
BEGIN:STANDARD
TZOFFSETFROM:-0500
TZOFFSETTO:-0600
TZNAME:CST
DTSTART:20261101T070000
END:STANDARD
END:VTIMEZONE
BEGIN:VEVENT
DTSTART;TZID=America/Chicago:20251028T083000
DTEND;TZID=America/Chicago:20251028T170000
DTSTAMP:20260423T225233
CREATED:20251014T033018Z
LAST-MODIFIED:20251014T033602Z
UID:7093-1761640200-1761670800@crecex.com
SUMMARY:Cultura de Negocios y Networking con Mujeres Empresarias Turcas
DESCRIPTION:Participe en un encuentro exclusivo con Mujeres Empresarias de Türkiye y descubra oportunidades de negocio en sectores clave \n\n\n\n Martes 28 de octubre\n 8:30 am\n\n Oficinas de CRECEX\, Curridabat \n\n\n\n\nUn espacio ideal para generar networking\, conocer ofertas de exportación e importación y abrir nuevas posibilidades comerciales con empresas turcas de gran trayectoria. \n\n\n\n Cupo limitado\n Evento en el marco del 75 aniversario de relaciones diplomáticas Türkiye – Costa Rica\n\n\n Inscripciones: (+506) 8418 6107\n comercioexterior@crecex.com\nhttps://forms.gle/PZNmKZtJFQkwvXfp8
URL:https://crecex.com/evento/cultura-de-negocios-y-networking-con-mujeres-empresarias-turcas/
LOCATION:CRECEX\, CRECEX Cámara de Comercio Exterior WXF3+462\, San José\, Curridabat\, Los Faroles\, 11801\, Curridabat\, San José\, Costa Rica
CATEGORIES:Comercio Exterior,Eventos CRECEX
ATTACH;FMTTYPE=image/jpeg:https://crecex.com/wp-content/uploads/2025/10/CULTURA-DE-NEGOCIOS-Y-NETWORKING-CON-MUJERES-EMPRESARIAS-TURQUIA-LISTA-DE-PARTICIPANTES-768x1434-1.jpg
ORGANIZER;CN="CRECEX":MAILTO:formacion@crecex.com
END:VEVENT
END:VCALENDAR