BEGIN:VCALENDAR
VERSION:2.0
PRODID:-//Cámara de Comercio Exterior de Costa Rica y de Representantes de Casas Extranjeras - ECPv6.15.20//NONSGML v1.0//EN
CALSCALE:GREGORIAN
METHOD:PUBLISH
X-WR-CALNAME:Cámara de Comercio Exterior de Costa Rica y de Representantes de Casas Extranjeras
X-ORIGINAL-URL:https://crecex.com
X-WR-CALDESC:Eventos para Cámara de Comercio Exterior de Costa Rica y de Representantes de Casas Extranjeras
REFRESH-INTERVAL;VALUE=DURATION:PT1H
X-Robots-Tag:noindex
X-PUBLISHED-TTL:PT1H
BEGIN:VTIMEZONE
TZID:America/Chicago
BEGIN:DAYLIGHT
TZOFFSETFROM:-0600
TZOFFSETTO:-0500
TZNAME:CDT
DTSTART:20240310T080000
END:DAYLIGHT
BEGIN:STANDARD
TZOFFSETFROM:-0500
TZOFFSETTO:-0600
TZNAME:CST
DTSTART:20241103T070000
END:STANDARD
BEGIN:DAYLIGHT
TZOFFSETFROM:-0600
TZOFFSETTO:-0500
TZNAME:CDT
DTSTART:20250309T080000
END:DAYLIGHT
BEGIN:STANDARD
TZOFFSETFROM:-0500
TZOFFSETTO:-0600
TZNAME:CST
DTSTART:20251102T070000
END:STANDARD
BEGIN:DAYLIGHT
TZOFFSETFROM:-0600
TZOFFSETTO:-0500
TZNAME:CDT
DTSTART:20260308T080000
END:DAYLIGHT
BEGIN:STANDARD
TZOFFSETFROM:-0500
TZOFFSETTO:-0600
TZNAME:CST
DTSTART:20261101T070000
END:STANDARD
END:VTIMEZONE
BEGIN:VEVENT
DTSTART;TZID=America/Chicago:20251111T090000
DTEND;TZID=America/Chicago:20251111T170000
DTSTAMP:20260423T225121
CREATED:20251014T035719Z
LAST-MODIFIED:20251014T040311Z
UID:7104-1762851600-1762880400@crecex.com
SUMMARY:Misión Comercial Ecuador Metalmecánica y Eléctrico
DESCRIPTION:CRECEX y PROECUADOR le invitan a participar en el Encuentro de Negocios Metalmecánica Ferretería y Construcción. \nEsta Misión Comercial cuenta con la participación de múltiples empresas ecuatorianas que desean introducir sus productos al mercado costarricense.\nLos empresarios interesados en adquirir dichos productos podrán reunirse con estas empresas ecuatorianas para conocer más acerca de su oferta y formar un potencial vínculo comercial.\n¡No se pierda esta oportunidad única!
URL:https://crecex.com/evento/mision-comercial-ecuador-metalmecanica-y-electrico/
LOCATION:Hotel Radisson San José\, Radisson San Jose-Costa Rica Calle Central\, y Tercera\, San José\, 10604\, San José\, San José\, Costa Rica
CATEGORIES:Comercio Exterior,Eventos CRECEX,Misión Comercial
ATTACH;FMTTYPE=image/jpeg:https://crecex.com/wp-content/uploads/2025/10/MISION-COMERCIAL-ECUADOR-2025.jpg
ORGANIZER;CN="CRECEX":MAILTO:formacion@crecex.com
END:VEVENT
END:VCALENDAR