BEGIN:VCALENDAR
VERSION:2.0
PRODID:-//Cámara de Comercio Exterior de Costa Rica y de Representantes de Casas Extranjeras - ECPv6.15.20//NONSGML v1.0//EN
CALSCALE:GREGORIAN
METHOD:PUBLISH
X-WR-CALNAME:Cámara de Comercio Exterior de Costa Rica y de Representantes de Casas Extranjeras
X-ORIGINAL-URL:https://crecex.com
X-WR-CALDESC:Eventos para Cámara de Comercio Exterior de Costa Rica y de Representantes de Casas Extranjeras
REFRESH-INTERVAL;VALUE=DURATION:PT1H
X-Robots-Tag:noindex
X-PUBLISHED-TTL:PT1H
BEGIN:VTIMEZONE
TZID:America/Chicago
BEGIN:DAYLIGHT
TZOFFSETFROM:-0600
TZOFFSETTO:-0500
TZNAME:CDT
DTSTART:20240310T080000
END:DAYLIGHT
BEGIN:STANDARD
TZOFFSETFROM:-0500
TZOFFSETTO:-0600
TZNAME:CST
DTSTART:20241103T070000
END:STANDARD
BEGIN:DAYLIGHT
TZOFFSETFROM:-0600
TZOFFSETTO:-0500
TZNAME:CDT
DTSTART:20250309T080000
END:DAYLIGHT
BEGIN:STANDARD
TZOFFSETFROM:-0500
TZOFFSETTO:-0600
TZNAME:CST
DTSTART:20251102T070000
END:STANDARD
BEGIN:DAYLIGHT
TZOFFSETFROM:-0600
TZOFFSETTO:-0500
TZNAME:CDT
DTSTART:20260308T080000
END:DAYLIGHT
BEGIN:STANDARD
TZOFFSETFROM:-0500
TZOFFSETTO:-0600
TZNAME:CST
DTSTART:20261101T070000
END:STANDARD
END:VTIMEZONE
BEGIN:VEVENT
DTSTART;TZID=America/Chicago:20251120T090000
DTEND;TZID=America/Chicago:20251122T160000
DTSTAMP:20260423T225115
CREATED:20251028T000636Z
LAST-MODIFIED:20251028T000636Z
UID:7213-1763629200-1763827200@crecex.com
SUMMARY:Ronda de Negocios Virtual del Encuentro Nacional Mujeres en Exportación
DESCRIPTION:¡No pierda la oportunidad de ser parte de esta iniciativa que impulsa la integración económica y el liderazgo femenino en el comercio internacional!\nEstimados empresarios y empresarias\, \nLa Embajada de la República Dominicana en Costa Rica\, en coordinación con ProDominicana\, tiene el honor de invitarles a participar en la Ronda de Negocios Virtual del Encuentro Nacional Mujeres en Exportación\, que se celebrará el miércoles 20 de noviembre de 2025\, de 9:00 a.m. a 4:00 p.m. (hora RD)\, a través de la plataforma ProDominicana Connect.\nEste evento es una oportunidad única para conectar directamente con empresas lideradas por mujeres dominicanas\, que destacan por su innovación\, calidad y compromiso con la sostenibilidad. \nPrincipales sectores y productos en exposición:\n🌺 Cuidado personal y cosmética natural: shampoos\, cremas\, aceites\, jabones artesanales.\n🍫 Cacao y derivados: chocolate\, nibs\, manteca\, licores.\n🥭 Frutas y vegetales frescos: mango\, piña\, banano\, aguacate\, ajíes.\n👜 Artesanías y accesorios: bolsos tejidos\, joyería ecológica\, piezas decorativas.\n👕 Textiles: ropa de mujer\, niños y chacabanas.\n🍯 Comestibles y bebidas: mieles\, café\, condimentos\, granolas y productos gourmet.\n📦 Envases y etiquetas personalizadas. \nA través de esta ronda B2B\, usted podrá explorar nuevas oportunidades comerciales\, ampliar su red de proveedores y fortalecer vínculos de cooperación con empresas dominicanas que ya exportan a diversos mercados internacionales. \n📅 Fecha límite de registro de compradores: viernes\, 14 de noviembre de 2025\n🖱️ Regístrese aquí: https://wkf.ms/3IJKKH9\nPara más información o asistencia en el proceso de inscripción\, puede contactarnos a este correo o al número que aparece a la firma del mismo.
URL:https://crecex.com/evento/ronda-de-negocios-virtual-del-encuentro-nacional-mujeres-en-exportacion/
CATEGORIES:Comercio Exterior
ATTACH;FMTTYPE=image/png:https://crecex.com/wp-content/uploads/2025/10/Mujeres-en-exportacion.-Rondas-de-Negocios.png
END:VEVENT
END:VCALENDAR