BEGIN:VCALENDAR
VERSION:2.0
PRODID:-//Cámara de Comercio Exterior de Costa Rica y de Representantes de Casas Extranjeras - ECPv6.15.20//NONSGML v1.0//EN
CALSCALE:GREGORIAN
METHOD:PUBLISH
X-WR-CALNAME:Cámara de Comercio Exterior de Costa Rica y de Representantes de Casas Extranjeras
X-ORIGINAL-URL:https://crecex.com
X-WR-CALDESC:Eventos para Cámara de Comercio Exterior de Costa Rica y de Representantes de Casas Extranjeras
REFRESH-INTERVAL;VALUE=DURATION:PT1H
X-Robots-Tag:noindex
X-PUBLISHED-TTL:PT1H
BEGIN:VTIMEZONE
TZID:America/Chicago
BEGIN:DAYLIGHT
TZOFFSETFROM:-0600
TZOFFSETTO:-0500
TZNAME:CDT
DTSTART:20250309T080000
END:DAYLIGHT
BEGIN:STANDARD
TZOFFSETFROM:-0500
TZOFFSETTO:-0600
TZNAME:CST
DTSTART:20251102T070000
END:STANDARD
BEGIN:DAYLIGHT
TZOFFSETFROM:-0600
TZOFFSETTO:-0500
TZNAME:CDT
DTSTART:20260308T080000
END:DAYLIGHT
BEGIN:STANDARD
TZOFFSETFROM:-0500
TZOFFSETTO:-0600
TZNAME:CST
DTSTART:20261101T070000
END:STANDARD
BEGIN:DAYLIGHT
TZOFFSETFROM:-0600
TZOFFSETTO:-0500
TZNAME:CDT
DTSTART:20270314T080000
END:DAYLIGHT
BEGIN:STANDARD
TZOFFSETFROM:-0500
TZOFFSETTO:-0600
TZNAME:CST
DTSTART:20271107T070000
END:STANDARD
END:VTIMEZONE
BEGIN:VEVENT
DTSTART;TZID=America/Chicago:20260330T000000
DTEND;TZID=America/Chicago:20260401T000000
DTSTAMP:20260423T150721
CREATED:20251017T165833Z
LAST-MODIFIED:20251017T165848Z
UID:7131-1774828800-1775001600@crecex.com
SUMMARY:IFE 2026 – International Food & Drink Event
DESCRIPTION:Estimados exportadores y responsables del comercio exterior: \nLos invitamos cordialmente a participar como expositores en el 26 aniversario de IFE 2026 – International Food & Drink Event que se realizará en marzo 30\, 31 y abril 1° en el ExCel International Exhibition Centre\, Londres\, Reino Unido\nIFE es parte de Food & Drink Hospitality Week.\n\nLa mayor feria del Reino Unido convoca +1.500 expositores\, 63% internacionales de 105 países y con +25.000 visitantes profesionales\nListado expositores 2025 \nVisitor Overview International \n\nSectores de la feria \nInternational Pavilions\, Artisan Market\, Bakery Snack Confectionary\, Specialty Food\, Chilled &amp; Frozen Food.\nGrocery &amp; Wholesale\, Heañth Organic &amp; Natural\, International Pavilions. Start Up Market\, Drinks\, Hot Beverages\, Free\nFromj\, Fresh Produce\, Cheese Pavilion\, Exporters Hub\n\n\n• Registración es £500 por empresa.\n• El costo de participación es de £514 por m2 espacio vacío y £614 por m2 con construcción Standard Shell (piso\, paredes blancas\, alfombra\, cartel con el nombre de la empresa\, iluminación y 1 punto electrico x 500w para stands de 6 m2 en adelante)\n• Las empresas y organismos extranjeros no pagan el impuesto VAT\n\nIFE se realiza conjuntamente con: IFE Manufacturing Solutions dedicada enteramente al desarrollo y fabricación de productos de toda la industria alimenticia y de bebidas.\nHRC Hotel\, Restaurant & Catering\, la exhibición para este sector más grande del Reino Unido\nInternational Salón Culinaire\nHospitality Tech 360\nEsto configura el evento profesional internacional más grande del Reino Unido para el sector alimentario y sus servicios\n\nPara más información\, comuníquese con:\nIrene Salazar – Directora\nFeriasAlimentarias.com SA – Official Exclusive Agents\n____________________________________________________\nMobile/Whatsapp +54 9 11 4540 1960 \nEmail:   irene@feriasalimentarias.com \nWeb:   www.feriasalimentarias.com 
URL:https://crecex.com/evento/ife-2026-international-food-drink-event/
CATEGORIES:Comercio Exterior
ATTACH;FMTTYPE=image/jpeg:https://crecex.com/wp-content/uploads/2025/10/IFE.jpg
END:VEVENT
END:VCALENDAR