BEGIN:VCALENDAR
VERSION:2.0
PRODID:-//Cámara de Comercio Exterior de Costa Rica y de Representantes de Casas Extranjeras - ECPv6.15.20//NONSGML v1.0//EN
CALSCALE:GREGORIAN
METHOD:PUBLISH
X-ORIGINAL-URL:https://crecex.com
X-WR-CALDESC:Eventos para Cámara de Comercio Exterior de Costa Rica y de Representantes de Casas Extranjeras
REFRESH-INTERVAL;VALUE=DURATION:PT1H
X-Robots-Tag:noindex
X-PUBLISHED-TTL:PT1H
BEGIN:VTIMEZONE
TZID:America/Chicago
BEGIN:DAYLIGHT
TZOFFSETFROM:-0600
TZOFFSETTO:-0500
TZNAME:CDT
DTSTART:20250309T080000
END:DAYLIGHT
BEGIN:STANDARD
TZOFFSETFROM:-0500
TZOFFSETTO:-0600
TZNAME:CST
DTSTART:20251102T070000
END:STANDARD
BEGIN:DAYLIGHT
TZOFFSETFROM:-0600
TZOFFSETTO:-0500
TZNAME:CDT
DTSTART:20260308T080000
END:DAYLIGHT
BEGIN:STANDARD
TZOFFSETFROM:-0500
TZOFFSETTO:-0600
TZNAME:CST
DTSTART:20261101T070000
END:STANDARD
BEGIN:DAYLIGHT
TZOFFSETFROM:-0600
TZOFFSETTO:-0500
TZNAME:CDT
DTSTART:20270314T080000
END:DAYLIGHT
BEGIN:STANDARD
TZOFFSETFROM:-0500
TZOFFSETTO:-0600
TZNAME:CST
DTSTART:20271107T070000
END:STANDARD
END:VTIMEZONE
BEGIN:VEVENT
DTSTART;TZID=America/Chicago:20260817T080000
DTEND;TZID=America/Chicago:20260817T170000
DTSTAMP:20260423T175548
CREATED:20260202T214019Z
LAST-MODIFIED:20260202T214716Z
UID:11695-1786953600-1786986000@crecex.com
SUMMARY:Enlace comercial 2026
DESCRIPTION:Todo un día de CONEXIONES ESTRATÉGICAS\n17 de agosto – Décima edición\nHotel Crowne Plaza Corobicí \n 
URL:https://crecex.com/evento/enlace-comercial-2026/
LOCATION:Hotel Crowne Plaza Corobicí
CATEGORIES:Comercio Exterior,Eventos CRECEX
ATTACH;FMTTYPE=image/jpeg:https://crecex.com/wp-content/uploads/2026/02/ENLACE-COMERCIA-2026-17-DE-AGOSTO.jpg
ORGANIZER;CN="CRECEX":MAILTO:formacion@crecex.com
END:VEVENT
END:VCALENDAR