BEGIN:VCALENDAR
VERSION:2.0
PRODID:-//Cámara de Comercio Exterior de Costa Rica y de Representantes de Casas Extranjeras - ECPv6.15.20//NONSGML v1.0//EN
CALSCALE:GREGORIAN
METHOD:PUBLISH
X-WR-CALNAME:Cámara de Comercio Exterior de Costa Rica y de Representantes de Casas Extranjeras
X-ORIGINAL-URL:https://crecex.com
X-WR-CALDESC:Eventos para Cámara de Comercio Exterior de Costa Rica y de Representantes de Casas Extranjeras
REFRESH-INTERVAL;VALUE=DURATION:PT1H
X-Robots-Tag:noindex
X-PUBLISHED-TTL:PT1H
BEGIN:VTIMEZONE
TZID:America/Chicago
BEGIN:DAYLIGHT
TZOFFSETFROM:-0600
TZOFFSETTO:-0500
TZNAME:CDT
DTSTART:20250309T080000
END:DAYLIGHT
BEGIN:STANDARD
TZOFFSETFROM:-0500
TZOFFSETTO:-0600
TZNAME:CST
DTSTART:20251102T070000
END:STANDARD
BEGIN:DAYLIGHT
TZOFFSETFROM:-0600
TZOFFSETTO:-0500
TZNAME:CDT
DTSTART:20260308T080000
END:DAYLIGHT
BEGIN:STANDARD
TZOFFSETFROM:-0500
TZOFFSETTO:-0600
TZNAME:CST
DTSTART:20261101T070000
END:STANDARD
BEGIN:DAYLIGHT
TZOFFSETFROM:-0600
TZOFFSETTO:-0500
TZNAME:CDT
DTSTART:20270314T080000
END:DAYLIGHT
BEGIN:STANDARD
TZOFFSETFROM:-0500
TZOFFSETTO:-0600
TZNAME:CST
DTSTART:20271107T070000
END:STANDARD
END:VTIMEZONE
BEGIN:VEVENT
DTSTART;TZID=America/Chicago:20260430T080000
DTEND;TZID=America/Chicago:20260430T170000
DTSTAMP:20260423T132536
CREATED:20260420T182720Z
LAST-MODIFIED:20260420T182810Z
UID:13083-1777536000-1777568400@crecex.com
SUMMARY:EXPO PACK México
DESCRIPTION:¡Ultima oportunidad! Regístrate totalmente de GRATIS antes del 30 de Abril de 2026.\nUtiliza el código CRECEX26 para obtener tu registro gratuito \nAsí lo viven quienes asisten a\nEXPO PACK México  \nTestimoniales: Así se vive EXPO PACK México \nDesde empresas líderes hasta las nuevas empresas en crecimiento\, todas estarán en EXPO PACK México 2026. Profesionales de distintas industrias ya están confirmando su asistencia para explorar la tecnología en vivo conectar con expertos del sector y avanzar en sus proyectos clave del año.\n¡Hay oportunidades para cada tipo de empresa y sector\, incluida la tuya! \n 
URL:https://crecex.com/evento/expo-pack-mexico/
CATEGORIES:Comercio Exterior,Evento,Eventos CRECEX
ATTACH;FMTTYPE=image/jpeg:https://crecex.com/wp-content/uploads/2026/04/EXPO-PACK-2026-scaled.jpg
END:VEVENT
END:VCALENDAR