BEGIN:VCALENDAR
VERSION:2.0
PRODID:-//Cámara de Comercio Exterior de Costa Rica y de Representantes de Casas Extranjeras - ECPv6.15.20//NONSGML v1.0//EN
CALSCALE:GREGORIAN
METHOD:PUBLISH
X-ORIGINAL-URL:https://crecex.com
X-WR-CALDESC:Eventos para Cámara de Comercio Exterior de Costa Rica y de Representantes de Casas Extranjeras
REFRESH-INTERVAL;VALUE=DURATION:PT1H
X-Robots-Tag:noindex
X-PUBLISHED-TTL:PT1H
BEGIN:VTIMEZONE
TZID:America/Chicago
BEGIN:DAYLIGHT
TZOFFSETFROM:-0600
TZOFFSETTO:-0500
TZNAME:CDT
DTSTART:20250309T080000
END:DAYLIGHT
BEGIN:STANDARD
TZOFFSETFROM:-0500
TZOFFSETTO:-0600
TZNAME:CST
DTSTART:20251102T070000
END:STANDARD
BEGIN:DAYLIGHT
TZOFFSETFROM:-0600
TZOFFSETTO:-0500
TZNAME:CDT
DTSTART:20260308T080000
END:DAYLIGHT
BEGIN:STANDARD
TZOFFSETFROM:-0500
TZOFFSETTO:-0600
TZNAME:CST
DTSTART:20261101T070000
END:STANDARD
BEGIN:DAYLIGHT
TZOFFSETFROM:-0600
TZOFFSETTO:-0500
TZNAME:CDT
DTSTART:20270314T080000
END:DAYLIGHT
BEGIN:STANDARD
TZOFFSETFROM:-0500
TZOFFSETTO:-0600
TZNAME:CST
DTSTART:20271107T070000
END:STANDARD
END:VTIMEZONE
BEGIN:VEVENT
DTSTART;TZID=America/Chicago:20260428T080000
DTEND;TZID=America/Chicago:20260428T170000
DTSTAMP:20260423T161451
CREATED:20260416T174727Z
LAST-MODIFIED:20260416T174727Z
UID:12852-1777363200-1777395600@crecex.com
SUMMARY:I Congreso de Compras Públicas de Costa Rica
DESCRIPTION:Llegó el evento que reunirá al sector público y privado en un solo lugar\n I Congreso de Compras Públicas de Costa Rica\n 28 de abril\n Crowne Plaza\, San José\, La Sabana \n\n Modalidad presencial\n\n\n Un espacio único para actualizarte\, generar contactos estratégicos y descubrir oportunidades reales en contratación pública.\n\n Ideal para empresas\, PYMES\, profesionales y tomadores de decisión\n Escribe al 7102-1015 o a mercadeo@incoex.cr y reserva tu espacio hoy mismo. ¡Cupos limitados!
URL:https://crecex.com/evento/i-congreso-de-compras-publicas-de-costa-rica/
LOCATION:Hotel Crowne Plaza Corobicí
CATEGORIES:Congreso
ATTACH;FMTTYPE=image/jpeg:https://crecex.com/wp-content/uploads/2026/04/I-CONGRESO-DE-COMPRAS-PUBLICAS.jpg
END:VEVENT
END:VCALENDAR