BEGIN:VCALENDAR
VERSION:2.0
PRODID:-//Cámara de Comercio Exterior de Costa Rica y de Representantes de Casas Extranjeras - ECPv6.15.20//NONSGML v1.0//EN
CALSCALE:GREGORIAN
METHOD:PUBLISH
X-ORIGINAL-URL:https://crecex.com
X-WR-CALDESC:Eventos para Cámara de Comercio Exterior de Costa Rica y de Representantes de Casas Extranjeras
REFRESH-INTERVAL;VALUE=DURATION:PT1H
X-Robots-Tag:noindex
X-PUBLISHED-TTL:PT1H
BEGIN:VTIMEZONE
TZID:America/Chicago
BEGIN:DAYLIGHT
TZOFFSETFROM:-0600
TZOFFSETTO:-0500
TZNAME:CDT
DTSTART:20250309T080000
END:DAYLIGHT
BEGIN:STANDARD
TZOFFSETFROM:-0500
TZOFFSETTO:-0600
TZNAME:CST
DTSTART:20251102T070000
END:STANDARD
BEGIN:DAYLIGHT
TZOFFSETFROM:-0600
TZOFFSETTO:-0500
TZNAME:CDT
DTSTART:20260308T080000
END:DAYLIGHT
BEGIN:STANDARD
TZOFFSETFROM:-0500
TZOFFSETTO:-0600
TZNAME:CST
DTSTART:20261101T070000
END:STANDARD
BEGIN:DAYLIGHT
TZOFFSETFROM:-0600
TZOFFSETTO:-0500
TZNAME:CDT
DTSTART:20270314T080000
END:DAYLIGHT
BEGIN:STANDARD
TZOFFSETFROM:-0500
TZOFFSETTO:-0600
TZNAME:CST
DTSTART:20271107T070000
END:STANDARD
END:VTIMEZONE
BEGIN:VEVENT
DTSTART;TZID=America/Chicago:20260507T080000
DTEND;TZID=America/Chicago:20260507T170000
DTSTAMP:20260423T192803
CREATED:20260423T200107Z
LAST-MODIFIED:20260423T200133Z
UID:13223-1778140800-1778173200@crecex.com
SUMMARY:III Edición del Congreso de Incendio y Automatización
DESCRIPTION:La III Edición del Congreso de Incendio y Automatización ya tiene fecha y viene con contenido clave para profesionales que buscan actualizarse\, intercambiar conocimiento y conocer las últimas tendencias en soluciones tecnológicas aplicadas a la seguridad y la automatización.\n\n\nUn espacio para aprender\, conectar y anticiparse a los desafíos del sector.\nJueves 7 de mayo de 2026\n\n\n\nMuy pronto más detalles.\n\n\nReserve su espacio y prepárese para ser parte del congreso.\nservicioalcliente@edintel.com
URL:https://crecex.com/evento/iii-edicion-del-congreso-de-incendio-y-automatizacion/
CATEGORIES:Congreso
ATTACH;FMTTYPE=image/jpeg:https://crecex.com/wp-content/uploads/2026/04/III-Edicion-del-Congreso-de-Incendio-y-Automatizacion.jpg
END:VEVENT
END:VCALENDAR