BEGIN:VCALENDAR
VERSION:2.0
PRODID:-//Cámara de Comercio Exterior de Costa Rica y de Representantes de Casas Extranjeras - ECPv6.15.20//NONSGML v1.0//EN
CALSCALE:GREGORIAN
METHOD:PUBLISH
X-WR-CALNAME:Cámara de Comercio Exterior de Costa Rica y de Representantes de Casas Extranjeras
X-ORIGINAL-URL:https://crecex.com
X-WR-CALDESC:Eventos para Cámara de Comercio Exterior de Costa Rica y de Representantes de Casas Extranjeras
REFRESH-INTERVAL;VALUE=DURATION:PT1H
X-Robots-Tag:noindex
X-PUBLISHED-TTL:PT1H
BEGIN:VTIMEZONE
TZID:America/Chicago
BEGIN:DAYLIGHT
TZOFFSETFROM:-0600
TZOFFSETTO:-0500
TZNAME:CDT
DTSTART:20250309T080000
END:DAYLIGHT
BEGIN:STANDARD
TZOFFSETFROM:-0500
TZOFFSETTO:-0600
TZNAME:CST
DTSTART:20251102T070000
END:STANDARD
BEGIN:DAYLIGHT
TZOFFSETFROM:-0600
TZOFFSETTO:-0500
TZNAME:CDT
DTSTART:20260308T080000
END:DAYLIGHT
BEGIN:STANDARD
TZOFFSETFROM:-0500
TZOFFSETTO:-0600
TZNAME:CST
DTSTART:20261101T070000
END:STANDARD
BEGIN:DAYLIGHT
TZOFFSETFROM:-0600
TZOFFSETTO:-0500
TZNAME:CDT
DTSTART:20270314T080000
END:DAYLIGHT
BEGIN:STANDARD
TZOFFSETFROM:-0500
TZOFFSETTO:-0600
TZNAME:CST
DTSTART:20271107T070000
END:STANDARD
END:VTIMEZONE
BEGIN:VEVENT
DTSTART;TZID=America/Chicago:20260217T160000
DTEND;TZID=America/Chicago:20260217T190000
DTSTAMP:20260423T161931
CREATED:20260214T034047Z
LAST-MODIFIED:20260214T034048Z
UID:11747-1771344000-1771354800@crecex.com
SUMMARY:Convocatoria Asamblea General Ordinaria y Extraordinaria CRECEX 2026
DESCRIPTION:Estimados Asociados\n\n\n\n\n\n\n\n\n\n\n\n\n\n\n\n\n\nLa Junta Directiva de la Asociación Cámara de Comercio Exterior de Costa Rica y de Representantes de Casas Extranjeras (CRECEX) les convoca cordialmente a participar en la Asamblea General Ordinaria y Extraordinaria 2026\, que se realizará el martes 17 de febrero\, en el Edificio CRECEX\, Curridabat. \n🕓 Horarios:\n4:00 p.m. → Convocatoria sesión extraordinaria\n5:00 p.m. → 1ª convocatoria sesión ordinaria\n5:30 p.m. → 2ª convocatoria sesión ordinaria \n📝 Para efectos de organización\, les solicitamos confirmar su asistencia mediante el siguiente formulario:\n👉 https://forms.gle/saWR1oBeMaisfv617 \nO bien puede dirigirse a nuestro equipo:\nservicioalcliente@crecex.com\n2253-0126 / 6099-7088 \n🔔 Les recordamos que\, para participar en la Asamblea\, deben estar al día con el pago de sus cuotas.\nEn caso de que el representante legal no pueda asistir\, podrá delegar su participación y voto mediante un poder especial autenticado por un abogado que lo autorice expresamente a actuar en su nombre. Asimismo\, deberá presentar una personería jurídica literal con menos de un mes de emitida. \nAgradecemos de antemano su participación y puntualidad.
URL:https://crecex.com/evento/convocatoria-asamblea-general-ordinaria-y-extraordinaria-crecex-2026/
LOCATION:CRECEX\, CRECEX Cámara de Comercio Exterior WXF3+462\, San José\, Curridabat\, Los Faroles\, 11801\, Curridabat\, San José\, Costa Rica
CATEGORIES:Asamblea,Eventos CRECEX
ATTACH;FMTTYPE=image/jpeg:https://crecex.com/wp-content/uploads/2026/02/ASAMBLEA-GENERAL-ORDINARIA-Y-EXTRAORDINARIA-CRECEX-2026-2.jpg
END:VEVENT
BEGIN:VEVENT
DTSTART;TZID=America/Chicago:20260225T080000
DTEND;TZID=America/Chicago:20260226T170000
DTSTAMP:20260423T161931
CREATED:20260127T205333Z
LAST-MODIFIED:20260127T205358Z
UID:11669-1772006400-1772125200@crecex.com
SUMMARY:Misión Comercial Canadá Agro- Alimentos
DESCRIPTION:¿Le interesa importar productos innovadores desde Canadá y conectar con proveedores internacionales confiables? \nLa Misión Comercial Canadá Sector Agro-Alimentos es una iniciativa impulsada por la embajada de Canadá en Costa Rica y CRECEX\, que permite a empresarios costarricenses tener contacto directo con empresas canadienses que desean exportar sus productos a Costa Rica. \nEstas compañías representan sectores como: \n\nLegumbres\, aceites y semillas\nAlimentos y bebidas gourmet\nCárnicos\nDulces\nPanadería y repostería\nEntre otros.\n\nMás de una docena de empresas están interesadas en establecer citas comerciales virtuales con potenciales compradores y distribuidores en Costa Rica. \n¡Programe su cita de negocios! \nCRECEX pone a su disposición un formulario para que pueda agendar directamente su reunión con las empresas de su interés. Esta es una oportunidad estratégica para ampliar su red de proveedores internacionales sin salir del país. \n📅 Agende su cita en el siguiente enlace: https://forms.gle/1ezD8GUzT4GLBSWN8 \n¡No deje pasar esta oportunidad única para expandir su empresa hacia nuevos horizontes internacionales de la mano de CRECEX!
URL:https://crecex.com/evento/mision-comercial-canada-agro-alimentos/
LOCATION:CRECEX\, CRECEX Cámara de Comercio Exterior WXF3+462\, San José\, Curridabat\, Los Faroles\, 11801\, Curridabat\, San José\, Costa Rica
CATEGORIES:Comercio Exterior,Eventos CRECEX,Misión Comercial
ATTACH;FMTTYPE=image/png:https://crecex.com/wp-content/uploads/2026/01/CANADA-PAG-1-4.png
END:VEVENT
END:VCALENDAR