BEGIN:VCALENDAR
VERSION:2.0
PRODID:-//Cámara de Comercio Exterior de Costa Rica y de Representantes de Casas Extranjeras - ECPv6.15.20//NONSGML v1.0//EN
CALSCALE:GREGORIAN
METHOD:PUBLISH
X-WR-CALNAME:Cámara de Comercio Exterior de Costa Rica y de Representantes de Casas Extranjeras
X-ORIGINAL-URL:https://crecex.com
X-WR-CALDESC:Eventos para Cámara de Comercio Exterior de Costa Rica y de Representantes de Casas Extranjeras
REFRESH-INTERVAL;VALUE=DURATION:PT1H
X-Robots-Tag:noindex
X-PUBLISHED-TTL:PT1H
BEGIN:VTIMEZONE
TZID:America/Chicago
BEGIN:DAYLIGHT
TZOFFSETFROM:-0600
TZOFFSETTO:-0500
TZNAME:CDT
DTSTART:20250309T080000
END:DAYLIGHT
BEGIN:STANDARD
TZOFFSETFROM:-0500
TZOFFSETTO:-0600
TZNAME:CST
DTSTART:20251102T070000
END:STANDARD
BEGIN:DAYLIGHT
TZOFFSETFROM:-0600
TZOFFSETTO:-0500
TZNAME:CDT
DTSTART:20260308T080000
END:DAYLIGHT
BEGIN:STANDARD
TZOFFSETFROM:-0500
TZOFFSETTO:-0600
TZNAME:CST
DTSTART:20261101T070000
END:STANDARD
BEGIN:DAYLIGHT
TZOFFSETFROM:-0600
TZOFFSETTO:-0500
TZNAME:CDT
DTSTART:20270314T080000
END:DAYLIGHT
BEGIN:STANDARD
TZOFFSETFROM:-0500
TZOFFSETTO:-0600
TZNAME:CST
DTSTART:20271107T070000
END:STANDARD
END:VTIMEZONE
BEGIN:VEVENT
DTSTART;TZID=America/Chicago:20260310T080000
DTEND;TZID=America/Chicago:20260312T170000
DTSTAMP:20260423T162706
CREATED:20260121T175639Z
LAST-MODIFIED:20260121T175727Z
UID:11665-1773129600-1773334800@crecex.com
SUMMARY:EXPOCOMER 2026
DESCRIPTION:Del 10 al 12 de marzo\, su empresa puede estar donde se hacen los negocios. \nParticipe como comprador en EXPOCOMER 2026 con CRECEX y acceda a agenda de negocios\, hospedaje en Panamá y descuentos en boletos aéreos. \nConecte con proveedores estratégicos\, optimice costos y genere nuevas oportunidades comerciales.\nCupos limitados. \nLink de pre-registro: https://forms.gle/gzVQ6NZNCLkFntiFA
URL:https://crecex.com/evento/expocomer-2026/
LOCATION:San José
CATEGORIES:Comercio Exterior,Eventos CRECEX
ATTACH;FMTTYPE=image/jpeg:https://crecex.com/wp-content/uploads/2026/01/EXPOCOMER-2026.jpeg
END:VEVENT
BEGIN:VEVENT
DTSTART;TZID=America/Chicago:20260311T073000
DTEND;TZID=America/Chicago:20260311T120000
DTSTAMP:20260423T162706
CREATED:20260306T165036Z
LAST-MODIFIED:20260306T165110Z
UID:12234-1773214200-1773230400@crecex.com
SUMMARY:Desayuno de Lanzamiento EXPOPACK
DESCRIPTION:¿Su empresa ya sabe cómo la IA está cambiando el empaque?\n\nSi no\, este evento es para usted. \n\n\n\nÚnase al Desayuno de Lanzamiento EXPOPACK y descubra cómo la inteligencia artificial\, la automatización y la sostenibilidad están redefiniendo el sector — y qué tiene que hacer para no quedarse atrás.\n\n\n Empaques biobasados y compostables  IA aplicada a predicción de demanda  Empaque digital con AR y códigos 2D\n\n\n¡Cupos limitados! Inscríbase por el QR o escribirnos al +506 8418 6107
URL:https://crecex.com/evento/desayuno-de-lanzamiento-expopack/
LOCATION:San José
CATEGORIES:Comercio Exterior,Eventos CRECEX
ATTACH;FMTTYPE=image/jpeg:https://crecex.com/wp-content/uploads/2026/03/DESAYUNO-LANZAMIENTO-EXPO-PACK.jpg
END:VEVENT
END:VCALENDAR