BEGIN:VCALENDAR
VERSION:2.0
PRODID:-//Cámara de Comercio Exterior de Costa Rica y de Representantes de Casas Extranjeras - ECPv6.15.20//NONSGML v1.0//EN
CALSCALE:GREGORIAN
METHOD:PUBLISH
X-ORIGINAL-URL:https://crecex.com
X-WR-CALDESC:Eventos para Cámara de Comercio Exterior de Costa Rica y de Representantes de Casas Extranjeras
REFRESH-INTERVAL;VALUE=DURATION:PT1H
X-Robots-Tag:noindex
X-PUBLISHED-TTL:PT1H
BEGIN:VTIMEZONE
TZID:America/Chicago
BEGIN:DAYLIGHT
TZOFFSETFROM:-0600
TZOFFSETTO:-0500
TZNAME:CDT
DTSTART:20250309T080000
END:DAYLIGHT
BEGIN:STANDARD
TZOFFSETFROM:-0500
TZOFFSETTO:-0600
TZNAME:CST
DTSTART:20251102T070000
END:STANDARD
BEGIN:DAYLIGHT
TZOFFSETFROM:-0600
TZOFFSETTO:-0500
TZNAME:CDT
DTSTART:20260308T080000
END:DAYLIGHT
BEGIN:STANDARD
TZOFFSETFROM:-0500
TZOFFSETTO:-0600
TZNAME:CST
DTSTART:20261101T070000
END:STANDARD
BEGIN:DAYLIGHT
TZOFFSETFROM:-0600
TZOFFSETTO:-0500
TZNAME:CDT
DTSTART:20270314T080000
END:DAYLIGHT
BEGIN:STANDARD
TZOFFSETFROM:-0500
TZOFFSETTO:-0600
TZNAME:CST
DTSTART:20271107T070000
END:STANDARD
END:VTIMEZONE
BEGIN:VEVENT
DTSTART;TZID=America/Chicago:20260428T080000
DTEND;TZID=America/Chicago:20260428T110000
DTSTAMP:20260423T143431
CREATED:20260421T165500Z
LAST-MODIFIED:20260421T165537Z
UID:13117-1777363200-1777374000@crecex.com
SUMMARY:China International Supply Chain Expo 2026
DESCRIPTION:China International Supply Chain Expo 2026 \nCRECEX le invita a conocer las oportunidades del mercado chino en el sector salud.\nParticipe en la presentación de CISCE 2026\, el enlace empresarial entre China y Costa Rica\, enfocado en dispositivos médicos\, innovación y tendencias globales.\n📅 28 de abril\, 2026\n⏰ 9:00 a.m.\n📍 UCCAEP\, La Uruca \nDescubra proveedores\, tecnología y oportunidades reales para hacer crecer su negocio.\nCupos limitados. Inscríbase ahora: https://forms.gle/4n6ymKmt3pHZVtmw9
URL:https://crecex.com/evento/china-international-supply-chain-expo-2026/
LOCATION:UCCAEP\, La Uruca\, San José\, específicamente de la segunda bomba Delta\, 100 metros noroeste\, sobre calle principal\, contiguo a la rotonda Juan Pablo II\, San José\, Costa Rica
CATEGORIES:Eventos CRECEX
ATTACH;FMTTYPE=image/jpeg:https://crecex.com/wp-content/uploads/2026/04/China-International-Supply-Chain-Expo-2026.jpg
END:VEVENT
END:VCALENDAR