BEGIN:VCALENDAR
VERSION:2.0
PRODID:-//Cámara de Comercio Exterior de Costa Rica y de Representantes de Casas Extranjeras - ECPv6.15.20//NONSGML v1.0//EN
CALSCALE:GREGORIAN
METHOD:PUBLISH
X-ORIGINAL-URL:https://crecex.com
X-WR-CALDESC:Eventos para Cámara de Comercio Exterior de Costa Rica y de Representantes de Casas Extranjeras
REFRESH-INTERVAL;VALUE=DURATION:PT1H
X-Robots-Tag:noindex
X-PUBLISHED-TTL:PT1H
BEGIN:VTIMEZONE
TZID:America/Chicago
BEGIN:DAYLIGHT
TZOFFSETFROM:-0600
TZOFFSETTO:-0500
TZNAME:CDT
DTSTART:20250309T080000
END:DAYLIGHT
BEGIN:STANDARD
TZOFFSETFROM:-0500
TZOFFSETTO:-0600
TZNAME:CST
DTSTART:20251102T070000
END:STANDARD
BEGIN:DAYLIGHT
TZOFFSETFROM:-0600
TZOFFSETTO:-0500
TZNAME:CDT
DTSTART:20260308T080000
END:DAYLIGHT
BEGIN:STANDARD
TZOFFSETFROM:-0500
TZOFFSETTO:-0600
TZNAME:CST
DTSTART:20261101T070000
END:STANDARD
BEGIN:DAYLIGHT
TZOFFSETFROM:-0600
TZOFFSETTO:-0500
TZNAME:CDT
DTSTART:20270314T080000
END:DAYLIGHT
BEGIN:STANDARD
TZOFFSETFROM:-0500
TZOFFSETTO:-0600
TZNAME:CST
DTSTART:20271107T070000
END:STANDARD
END:VTIMEZONE
BEGIN:VEVENT
DTSTART;TZID=America/Chicago:20260305T070000
DTEND;TZID=America/Chicago:20260305T090000
DTSTAMP:20260423T161453
CREATED:20260227T213039Z
LAST-MODIFIED:20260227T213817Z
UID:12185-1772694000-1772701200@crecex.com
SUMMARY:Seminario “Tango” con los reguladores: como un inversionista latinoamericano debe concluir negocios en Rusia”
DESCRIPTION:El enlace del evento: https://telemost.360.yandex.ru/j/45180708631348
URL:https://crecex.com/evento/seminario-tango-con-los-reguladores-como-un-inversionista-latinoamericano-debe-concluir-negocios-en-rusia/
LOCATION:San José
CATEGORIES:Eventos Gratuitos
ATTACH;FMTTYPE=image/jpeg:https://crecex.com/wp-content/uploads/2026/02/29-Seminario-ASARI-LEGAL-1.jpg
END:VEVENT
END:VCALENDAR