BEGIN:VCALENDAR
VERSION:2.0
PRODID:-//Cámara de Comercio Exterior de Costa Rica y de Representantes de Casas Extranjeras - ECPv6.15.20//NONSGML v1.0//EN
CALSCALE:GREGORIAN
METHOD:PUBLISH
X-ORIGINAL-URL:https://crecex.com
X-WR-CALDESC:Eventos para Cámara de Comercio Exterior de Costa Rica y de Representantes de Casas Extranjeras
REFRESH-INTERVAL;VALUE=DURATION:PT1H
X-Robots-Tag:noindex
X-PUBLISHED-TTL:PT1H
BEGIN:VTIMEZONE
TZID:UTC
BEGIN:STANDARD
TZOFFSETFROM:+0000
TZOFFSETTO:+0000
TZNAME:UTC
DTSTART:20240101T000000
END:STANDARD
END:VTIMEZONE
BEGIN:VTIMEZONE
TZID:America/Chicago
BEGIN:DAYLIGHT
TZOFFSETFROM:-0600
TZOFFSETTO:-0500
TZNAME:CDT
DTSTART:20240310T080000
END:DAYLIGHT
BEGIN:STANDARD
TZOFFSETFROM:-0500
TZOFFSETTO:-0600
TZNAME:CST
DTSTART:20241103T070000
END:STANDARD
BEGIN:DAYLIGHT
TZOFFSETFROM:-0600
TZOFFSETTO:-0500
TZNAME:CDT
DTSTART:20250309T080000
END:DAYLIGHT
BEGIN:STANDARD
TZOFFSETFROM:-0500
TZOFFSETTO:-0600
TZNAME:CST
DTSTART:20251102T070000
END:STANDARD
BEGIN:DAYLIGHT
TZOFFSETFROM:-0600
TZOFFSETTO:-0500
TZNAME:CDT
DTSTART:20260308T080000
END:DAYLIGHT
BEGIN:STANDARD
TZOFFSETFROM:-0500
TZOFFSETTO:-0600
TZNAME:CST
DTSTART:20261101T070000
END:STANDARD
END:VTIMEZONE
BEGIN:VEVENT
DTSTART;TZID=UTC:20251014T173000
DTEND;TZID=UTC:20251014T203000
DTSTAMP:20260423T223505
CREATED:20251013T040352Z
LAST-MODIFIED:20251013T042510Z
UID:7034-1760463000-1760473800@crecex.com
SUMMARY:Módulo I - Gestión de Procesos
DESCRIPTION:📍 Sesiones virtuales Zoom\n🗓 Fecha: Martes y Jueves 14 y 16 de octubre\n🕘 Horario: 5:30 pm a 8:30 pm \n💼 Inversión: \n\nAsociados ₡36.000 + 2% IVA\nNo Asociados ₡52.000 + 2% IVA\n\n  \n📩 Inscripciones:\nformacion@crecex.com\n📞8478-4349 | 2253-0126 ext. 118 \nConviértase en un experto en la Cadena de Suministros
URL:https://crecex.com/evento/modulo-i-gestion-de-procesos/
LOCATION:San José
CATEGORIES:Capacitaciones Formación Empresarial
ATTACH;FMTTYPE=image/jpeg:https://crecex.com/wp-content/uploads/2025/10/MODULO-IGESTION-DE-PROCESOS-14-Y-16-de-octubre.jpg
ORGANIZER;CN="CRECEX":MAILTO:formacion@crecex.com
END:VEVENT
BEGIN:VEVENT
DTSTART;TZID=America/Chicago:20251015T083000
DTEND;TZID=America/Chicago:20251015T123000
DTSTAMP:20260423T223505
CREATED:20251012T225906Z
LAST-MODIFIED:20251012T225906Z
UID:7058-1760517000-1760531400@crecex.com
SUMMARY:Curso: Gestión de Compras y Abastecimientos
DESCRIPTION:📍 Virtual vía Zoom\n🗓 Fecha: 15 y 16 de octubre\n🕘 Horario: 8:30 am a 12:30 pm \n💼 Inversión: \n\nAsociados: ₡75.000 + 2% IVA\nNo Asociados: ₡85.000 + 2% IVA\n\n  \n📩 Inscripciones:\nformacionempresarial@crecex.com\n📞8478-4349 | 2253-0126 ext. 118 \n 
URL:https://crecex.com/evento/curso-gestion-de-compras-y-abastecimientos/
LOCATION:CRECEX\, CRECEX Cámara de Comercio Exterior WXF3+462\, San José\, Curridabat\, Los Faroles\, 11801\, Curridabat\, San José\, Costa Rica
CATEGORIES:Capacitaciones Formación Empresarial
ATTACH;FMTTYPE=image/jpeg:https://crecex.com/wp-content/uploads/2025/10/GESTION-DE-COMPRAS-Y-ABASTECIMIENTOS-15-Y-16-OCTUBRE.jpg
ORGANIZER;CN="CRECEX":MAILTO:formacion@crecex.com
END:VEVENT
BEGIN:VEVENT
DTSTART;TZID=America/Chicago:20251016T090000
DTEND;TZID=America/Chicago:20251016T223000
DTSTAMP:20260423T223505
CREATED:20251013T043142Z
LAST-MODIFIED:20251012T225208Z
UID:7044-1760605200-1760653800@crecex.com
SUMMARY:Charla Estrategias efectivas para la Contratación y Retención de Talento
DESCRIPTION:📍 Virtual vía Zoom\n🗓 Fecha: 16 de octubre\, 2025\n🕘 Horario: 9:00 am a 10:30 am \n💼 Inversión: \n\nAsociados ₡25.000 + 2% IVA\nNo Asociados ₡35.000 + 2% IVA\n\n  \n📩 Inscripciones:\nformacion@crecex.com\n📞8478-4349 | 2253-0126 ext. 118 \n📣 ¡Consulte por capacitaciones personalizadas!
URL:https://crecex.com/evento/charla-estrategias-efectivas-para-la-contratacion-y-retencion-de-talento/
LOCATION:San José
CATEGORIES:Capacitaciones Formación Empresarial,Charla
ATTACH;FMTTYPE=image/jpeg:https://crecex.com/wp-content/uploads/2025/10/ESTRATEGIAS-EFECTIVAS-PARA-LA-CONTRATACION-Y-RETENCION-DE-TALENTO-16-OCTUBRE.jpg
ORGANIZER;CN="CRECEX":MAILTO:formacion@crecex.com
END:VEVENT
BEGIN:VEVENT
DTSTART;TZID=America/Chicago:20251021T173000
DTEND;TZID=America/Chicago:20251021T173000
DTSTAMP:20260423T223505
CREATED:20251014T025010Z
LAST-MODIFIED:20251014T025321Z
UID:7072-1761067800-1761067800@crecex.com
SUMMARY:MÓDULO II-Manejo de Materiales
DESCRIPTION:CRECEX – Cámara de Comercio Exterior Especialista en Gestión Integral de Almacenes \n🔶 MÓDULO 2 – 📍 Manejo de Materiales\n🔵 Sesiones virtuales vía Zoom \n🗓 Fecha: Martes y jueves 21 y 23 de octubre\n🕘 Horario: 5:30 pm a 8:30 pm \n💼 Inversión: \n\nAsociados ₡36.000 + 2% IVA\nNo Asociados  ₡52.000 + 2% IVA\n\n📩 Inscripciones:\nformacion@crecex.com\n📞8478-4349 | 2253-0126 ext. 118 \n📢 ¡Conviértase en un experto en la Cadena de Suministros! \n 
URL:https://crecex.com/evento/modulo-ii-manejo-de-materiales/
LOCATION:CRECEX\, CRECEX Cámara de Comercio Exterior WXF3+462\, San José\, Curridabat\, Los Faroles\, 11801\, Curridabat\, San José\, Costa Rica
CATEGORIES:Capacitaciones Formación Empresarial
ATTACH;FMTTYPE=image/jpeg:https://crecex.com/wp-content/uploads/2025/10/MODULO-II-MANEJO-DE-MATERIALES-21-Y-23-octubre.jpg
ORGANIZER;CN="CRECEX":MAILTO:formacion@crecex.com
END:VEVENT
BEGIN:VEVENT
DTSTART;TZID=America/Chicago:20251028T173000
DTEND;TZID=America/Chicago:20251028T203000
DTSTAMP:20260423T223505
CREATED:20251014T025731Z
LAST-MODIFIED:20251014T025731Z
UID:7077-1761672600-1761683400@crecex.com
SUMMARY:MÓDULO III-Análisis de Demanda
DESCRIPTION:CRECEX – Cámara de Comercio Exterior Especialista en Gestión Integral de Almacenes \n🔶 MÓDULO 3 –  Análisis de Demanda\n🔵 Sesiones virtuales vía Zoom \n🗓 Fecha: Martes y jueves\, 28 y 30 de octubre\n🕘 Horario: 5:30 p.m. a 8:30 p.m. \n💼 Inversión: \n\nAsociados ₡36.000 + 2% IVA\nNo Asociados ₡52.000 + 2% IVA\n\n📩 Inscripciones:\nformacion@crecex.com\n📞8478-4349 | 2253-0126 ext. 118 \n📢 ¡Conviértase en un experto en la Cadena de Suministros! \n 
URL:https://crecex.com/evento/modulo-iii-analisis-de-demanda/
LOCATION:CRECEX\, CRECEX Cámara de Comercio Exterior WXF3+462\, San José\, Curridabat\, Los Faroles\, 11801\, Curridabat\, San José\, Costa Rica
CATEGORIES:Capacitaciones Formación Empresarial
ATTACH;FMTTYPE=image/jpeg:https://crecex.com/wp-content/uploads/2025/10/MODULO-III-ANALISIS-DE-DEMANDA-MARTES-28-Y-30-DE-OCTUBRE.jpg
ORGANIZER;CN="CRECEX":MAILTO:formacion@crecex.com
END:VEVENT
END:VCALENDAR