BEGIN:VCALENDAR
VERSION:2.0
PRODID:-//Cámara de Comercio Exterior de Costa Rica y de Representantes de Casas Extranjeras - ECPv6.15.20//NONSGML v1.0//EN
CALSCALE:GREGORIAN
METHOD:PUBLISH
X-ORIGINAL-URL:https://crecex.com
X-WR-CALDESC:Eventos para Cámara de Comercio Exterior de Costa Rica y de Representantes de Casas Extranjeras
REFRESH-INTERVAL;VALUE=DURATION:PT1H
X-Robots-Tag:noindex
X-PUBLISHED-TTL:PT1H
BEGIN:VTIMEZONE
TZID:America/Chicago
BEGIN:DAYLIGHT
TZOFFSETFROM:-0600
TZOFFSETTO:-0500
TZNAME:CDT
DTSTART:20250309T080000
END:DAYLIGHT
BEGIN:STANDARD
TZOFFSETFROM:-0500
TZOFFSETTO:-0600
TZNAME:CST
DTSTART:20251102T070000
END:STANDARD
BEGIN:DAYLIGHT
TZOFFSETFROM:-0600
TZOFFSETTO:-0500
TZNAME:CDT
DTSTART:20260308T080000
END:DAYLIGHT
BEGIN:STANDARD
TZOFFSETFROM:-0500
TZOFFSETTO:-0600
TZNAME:CST
DTSTART:20261101T070000
END:STANDARD
BEGIN:DAYLIGHT
TZOFFSETFROM:-0600
TZOFFSETTO:-0500
TZNAME:CDT
DTSTART:20270314T080000
END:DAYLIGHT
BEGIN:STANDARD
TZOFFSETFROM:-0500
TZOFFSETTO:-0600
TZNAME:CST
DTSTART:20271107T070000
END:STANDARD
END:VTIMEZONE
BEGIN:VEVENT
DTSTART;TZID=America/Chicago:20260212T080000
DTEND;TZID=America/Chicago:20260212T123000
DTSTAMP:20260423T163735
CREATED:20260216T224005Z
LAST-MODIFIED:20260216T224005Z
UID:12068-1770883200-1770899400@crecex.com
SUMMARY:Charla Servicio al Cliente
DESCRIPTION:Jueves 12 febrero\nHorario: 8:30 a.m a 12:30 p.m\nModalidad Virtual \nAsociados ₡40.000 + 2% IVA\nNo Asociados ₡52.000 + 2% IVA \n(+506) 2253-0126 ext.118\nformacion@crecex.com
URL:https://crecex.com/evento/charla-servicio-al-cliente/
LOCATION:San José
CATEGORIES:Capacitaciones Formación Empresarial
ATTACH;FMTTYPE=image/jpeg:https://crecex.com/wp-content/uploads/2026/02/12-DE-FEBRERO-Servicio-al-cliente.jpg
ORGANIZER;CN="CRECEX":MAILTO:formacion@crecex.com
END:VEVENT
BEGIN:VEVENT
DTSTART;TZID=America/Chicago:20260216T173000
DTEND;TZID=America/Chicago:20260216T203000
DTSTAMP:20260423T163735
CREATED:20260216T224519Z
LAST-MODIFIED:20260307T054727Z
UID:12072-1771263000-1771273800@crecex.com
SUMMARY:ESPECIALISTA EN ADUANAS Y COMERCIO EXTERIOR
DESCRIPTION:Lunes y miércoles Del 16 feb al 8 abr \n5:30 pm a 8:30 pm\nAsociados ₡267.500 + 2% IVA\nNo Asociados ₡297.500 + 2% IVA \nSesiones virtuales zoom \n¡Conviértase en un experto en Aduanas y Comercio! \n• Optimice sus procesos de importación y exportación\n• Reduzca costos y riesgos en operaciones internacionales\n• Garantice cumplimiento normativo y aduanero \nInscripciones:\n8478-4349 | 2253-0126 ext. 118\nformacionempresarial@crecex.com
URL:https://crecex.com/evento/especialista-en-aduanas-y-comercio-exterior/
LOCATION:San José
CATEGORIES:Capacitaciones Formación Empresarial
ATTACH;FMTTYPE=image/jpeg:https://crecex.com/wp-content/uploads/2026/02/16-de-febrero-Especialista-en-Aduanas-y-Comercio.jpeg
ORGANIZER;CN="CRECEX":MAILTO:formacion@crecex.com
END:VEVENT
BEGIN:VEVENT
DTSTART;TZID=America/Chicago:20260217T083000
DTEND;TZID=America/Chicago:20260217T123000
DTSTAMP:20260423T163735
CREATED:20260216T230023Z
LAST-MODIFIED:20260216T230159Z
UID:12076-1771317000-1771331400@crecex.com
SUMMARY:Contratación Administrativa
DESCRIPTION:17\, 18\, 24 y 25 feb \nHorario: 8:30 a.m a 12:30 p.m\nModalidad Virtual \nAsociados ₡130.000 + 2% IVA\nNo Asociados ₡145.000 + 2% IVA \nLive Sesion Zoom \nInscripciones:\n8478-4349 | 2253-0126 ext. 118\nformacionempresarial@crecex.com
URL:https://crecex.com/evento/contratacion-administrativa/
LOCATION:San José
CATEGORIES:Capacitaciones Formación Empresarial
ATTACH;FMTTYPE=image/jpeg:https://crecex.com/wp-content/uploads/2026/02/17-DE-FEBRERO-Contratacion-Administrativa.jpg
END:VEVENT
BEGIN:VEVENT
DTSTART;TZID=America/Chicago:20260220T083000
DTEND;TZID=America/Chicago:20260220T123000
DTSTAMP:20260423T163735
CREATED:20260216T231627Z
LAST-MODIFIED:20260216T232030Z
UID:12080-1771576200-1771590600@crecex.com
SUMMARY:Registros Sanitarios de Equipo y Material Biomédico
DESCRIPTION:Viernes 20 febrero \nHorario: 8:30 a.m a 12:30 p.m\nModalidad Virtual \nAsociados ₡40.000 + 2% IVA\nNo Asociados ₡52.000 + 2% IVA \nLive Sesion Zoom \nInscripciones: \n(+506) 2253-0126 ext.118\nformacion@crecex.com \n 
URL:https://crecex.com/evento/registros-sanitarios-de-equipo-y-material-biomedico/
LOCATION:San José
CATEGORIES:Capacitaciones Formación Empresarial
ATTACH;FMTTYPE=image/jpeg:https://crecex.com/wp-content/uploads/2026/02/20-FEBRERO-Registros-EMB.jpg
ORGANIZER;CN="CRECEX":MAILTO:formacion@crecex.com
END:VEVENT
BEGIN:VEVENT
DTSTART;TZID=America/Chicago:20260223T090000
DTEND;TZID=America/Chicago:20260223T103000
DTSTAMP:20260423T163735
CREATED:20260216T232335Z
LAST-MODIFIED:20260216T232335Z
UID:12084-1771837200-1771842600@crecex.com
SUMMARY:IA en Zona Franca: Lo que Debe Conocer y Ya está Sucediendo
DESCRIPTION:Lunes 23 febrero \nHorario: 9:00 a.m a 10:30 a.m\nModalidad Virtual \nAsociados ₡25.000 + 2% IVA\nNo Asociados ₡35.000 + 2% IVA \nLive Sesion Zoom \nLo que nadie ha explicado y ya está pasando! \nInscripciones: \n(+506) 2253-0126 ext.118\nformacion@crecex.com
URL:https://crecex.com/evento/ia-en-zona-franca-lo-que-debe-conocer-y-ya-esta-sucediendo/
LOCATION:San José
CATEGORIES:Capacitaciones Formación Empresarial
ATTACH;FMTTYPE=image/jpeg:https://crecex.com/wp-content/uploads/2026/02/23-DE-FEBRERO-IA-EN-ZONA-FRANCA.jpg
ORGANIZER;CN="CRECEX":MAILTO:formacion@crecex.com
END:VEVENT
BEGIN:VEVENT
DTSTART;TZID=America/Chicago:20260226T083000
DTEND;TZID=America/Chicago:20260226T123000
DTSTAMP:20260423T163735
CREATED:20260216T234728Z
LAST-MODIFIED:20260216T234728Z
UID:12088-1772094600-1772109000@crecex.com
SUMMARY:Charla Jefe por Primera Vez
DESCRIPTION:Jueves 26 febrero \nHorario: 8:30 a.m a 12:30 p.m\nModalidad Virtual \nAsociados ₡40.000 + 2% IVA\nNo Asociados ₡52.000 + 2% IVA \nLive Sesión Zoom \nInscripciones: \n(+506) 2253-0126 ext.118\nformacion@crecex.com
URL:https://crecex.com/evento/charla-jefe-por-primera-vez/
LOCATION:San José
CATEGORIES:Capacitaciones Formación Empresarial
ATTACH;FMTTYPE=image/jpeg:https://crecex.com/wp-content/uploads/2026/02/Jefe-Primera-Vez-26-DE-FEBRERO.jpg
ORGANIZER;CN="CRECEX":MAILTO:formacion@crecex.com
END:VEVENT
END:VCALENDAR