BEGIN:VCALENDAR
VERSION:2.0
PRODID:-//Cámara de Comercio Exterior de Costa Rica y de Representantes de Casas Extranjeras - ECPv6.15.20//NONSGML v1.0//EN
CALSCALE:GREGORIAN
METHOD:PUBLISH
X-WR-CALNAME:Cámara de Comercio Exterior de Costa Rica y de Representantes de Casas Extranjeras
X-ORIGINAL-URL:https://crecex.com
X-WR-CALDESC:Eventos para Cámara de Comercio Exterior de Costa Rica y de Representantes de Casas Extranjeras
REFRESH-INTERVAL;VALUE=DURATION:PT1H
X-Robots-Tag:noindex
X-PUBLISHED-TTL:PT1H
BEGIN:VTIMEZONE
TZID:America/Chicago
BEGIN:DAYLIGHT
TZOFFSETFROM:-0600
TZOFFSETTO:-0500
TZNAME:CDT
DTSTART:20250309T080000
END:DAYLIGHT
BEGIN:STANDARD
TZOFFSETFROM:-0500
TZOFFSETTO:-0600
TZNAME:CST
DTSTART:20251102T070000
END:STANDARD
BEGIN:DAYLIGHT
TZOFFSETFROM:-0600
TZOFFSETTO:-0500
TZNAME:CDT
DTSTART:20260308T080000
END:DAYLIGHT
BEGIN:STANDARD
TZOFFSETFROM:-0500
TZOFFSETTO:-0600
TZNAME:CST
DTSTART:20261101T070000
END:STANDARD
BEGIN:DAYLIGHT
TZOFFSETFROM:-0600
TZOFFSETTO:-0500
TZNAME:CDT
DTSTART:20270314T080000
END:DAYLIGHT
BEGIN:STANDARD
TZOFFSETFROM:-0500
TZOFFSETTO:-0600
TZNAME:CST
DTSTART:20271107T070000
END:STANDARD
END:VTIMEZONE
BEGIN:VEVENT
DTSTART;TZID=America/Chicago:20260312T083000
DTEND;TZID=America/Chicago:20260312T123000
DTSTAMP:20260423T145622
CREATED:20260303T212939Z
LAST-MODIFIED:20260309T145438Z
UID:12226-1773304200-1773318600@crecex.com
SUMMARY:Registros Sanitarios de Cosméticos
DESCRIPTION:Jueves 12 de marzo\n8:30 am a 12:30 pm \nAsociados ₡40.000 + 2% IVA\nNo Asociados ₡52.000 + 2% IVA \nInscripciones: \nformacionempresarial@crecex.com \n(+506) 2253-0126 ext.118
URL:https://crecex.com/evento/registros-sanitarios-de-cosmeticos/
LOCATION:San José
CATEGORIES:Capacitaciones Formación Empresarial
ATTACH;FMTTYPE=image/jpeg:https://crecex.com/wp-content/uploads/2026/03/Registro-Sanitarios-de-Cosmeticos-12-de-marzo.jpg
ORGANIZER;CN="CRECEX":MAILTO:formacion@crecex.com
END:VEVENT
BEGIN:VEVENT
DTSTART;TZID=America/Chicago:20260319T083000
DTEND;TZID=America/Chicago:20260319T123000
DTSTAMP:20260423T145622
CREATED:20260303T205507Z
LAST-MODIFIED:20260309T144929Z
UID:12210-1773909000-1773923400@crecex.com
SUMMARY:Manejo y Resolución de Conflictos
DESCRIPTION:Jueves 19 de marzo\nDe 8:30 am a 12:30 pm \nAsociados ₡40.000 + 2% IVA\nNo Asociados ₡52.000 + 2% IVA \nInscripciones: \nformacionempresarial@crecex.com \n(+506) 2253-0126 ext.118 \n¡Consulte por capacitaciones personalizadas!
URL:https://crecex.com/evento/manejo-y-resolucion-de-conflictos/
LOCATION:San José
CATEGORIES:Capacitaciones Formación Empresarial
ATTACH;FMTTYPE=image/jpeg:https://crecex.com/wp-content/uploads/2026/03/Manejo-y-Resolucion-de-Conflictos-Jueves-19-de-marzo.jpg
END:VEVENT
BEGIN:VEVENT
DTSTART;TZID=America/Chicago:20260320T083000
DTEND;TZID=America/Chicago:20260320T123000
DTSTAMP:20260423T145622
CREATED:20260303T211347Z
LAST-MODIFIED:20260309T145537Z
UID:12218-1773995400-1774009800@crecex.com
SUMMARY:Etiquetado y Embalaje en el Transporte de Mercancías
DESCRIPTION:Viernes 20 de marzo\n8:30 am a 12:30 pm \nAsociados ₡40.000 + 2% IVA\nNo Asociados ₡52.000 + 2% IVA \nInscripciones: \nformacionempresarial@crecex.com \n(+506) 2253-0126 ext.118
URL:https://crecex.com/evento/etiquetado-y-embalaje-en-el-transporte-de-mercancias/
LOCATION:San José
CATEGORIES:Capacitaciones Formación Empresarial
ATTACH;FMTTYPE=image/jpeg:https://crecex.com/wp-content/uploads/2026/03/Etiquetado-y-Embalaje-en-el-transporte-de-Mercancias-20-de-marzo.jpg
ORGANIZER;CN="CRECEX":MAILTO:formacion@crecex.com
END:VEVENT
BEGIN:VEVENT
DTSTART;TZID=America/Chicago:20260323T143000
DTEND;TZID=America/Chicago:20260323T173000
DTSTAMP:20260423T145622
CREATED:20260303T212157Z
LAST-MODIFIED:20260309T151152Z
UID:12222-1774276200-1774287000@crecex.com
SUMMARY:Especialista en Logística y Transporte Internacional
DESCRIPTION:Del 23 marzo al 3 junio\nDe 2:30 p.m a 5:30 p.m (lunes y miércoles)\nTotal: 60 horas \nAsociados ₡267.000 + 2% IVA\nNo Asociados ₡297.000 + 2% IVA \n  \nInscripciones: \n(+506) 2253-0126 ext.118\nformacion@crecex.com
URL:https://crecex.com/evento/especialista-en-logistica-y-transporte-internacional/
LOCATION:San José
CATEGORIES:Capacitaciones Formación Empresarial
ATTACH;FMTTYPE=image/jpeg:https://crecex.com/wp-content/uploads/2026/03/Especialista-en-Logistica-y-Transporte-Int-23-de-marzo-al-3-de-junio.jpg
ORGANIZER;CN="CRECEX":MAILTO:formacion@crecex.com
END:VEVENT
BEGIN:VEVENT
DTSTART;TZID=America/Chicago:20260323T173000
DTEND;TZID=America/Chicago:20260323T203000
DTSTAMP:20260423T145622
CREATED:20260303T215045Z
LAST-MODIFIED:20260327T205257Z
UID:12230-1774287000-1774297800@crecex.com
SUMMARY:Especialista en Microsoft Excel
DESCRIPTION:Especialista en Microsoft Excel\nBásico\, Intermedio y Avanzado – \nDel 23 marzo al 29 abril\nDe 5:30 p.m a 8:30 p.m (lunes y miércoles)\nTotal: 36 Horas \nAsociados ₡267.000 + 2% IVA\nNo Asociados ₡297.000 + 2% IVA \nInscripciones: \n(+506) 2253-0126 ext.118\nformacion@crecex.com
URL:https://crecex.com/evento/especialista-en-microsoft-excel/
LOCATION:San José
CATEGORIES:Capacitaciones Formación Empresarial
ATTACH;FMTTYPE=image/jpeg:https://crecex.com/wp-content/uploads/2026/03/Especialista-en-Microsoft-Excel-23-marzo-29-abril.jpg
ORGANIZER;CN="CRECEX":MAILTO:formacion@crecex.com
END:VEVENT
BEGIN:VEVENT
DTSTART;TZID=America/Chicago:20260324T100000
DTEND;TZID=America/Chicago:20260324T110000
DTSTAMP:20260423T145622
CREATED:20260310T202405Z
LAST-MODIFIED:20260310T202405Z
UID:12453-1774346400-1774350000@crecex.com
SUMMARY:IA para la Toma de Decisiones Estratégicas
DESCRIPTION:🤖📊 WEBINAR GRATUITO\nIA para la Toma de Decisiones Estratégicas\nTomar decisiones a ciegas ya no es opción.\nLa Inteligencia Artificial permite analizar datos\, reducir riesgos y decidir con ventaja competitiva.\nAprenda cómo aplicar IA en la gestión estratégica de su empresa de forma práctica y real. \n🗓 Martes 24 de marzo\n⏰ 10:00 a.m.\n💻 Modalidad: Zoom | 100% Gratuito\n🔗 Inscripción gratuita: Clic aquí.\nDecidir mejor no es suerte. Es estrategia con tecnología
URL:https://crecex.com/evento/ia-para-la-toma-de-decisiones-estrategicas/
LOCATION:San José
CATEGORIES:Capacitaciones Formación Empresarial,Webinars
ATTACH;FMTTYPE=image/jpeg:https://crecex.com/wp-content/uploads/2026/03/IA-para-la-Toma-de-Decisiones-Estrategicas.jpg
ORGANIZER;CN="CRECEX":MAILTO:formacion@crecex.com
END:VEVENT
BEGIN:VEVENT
DTSTART;TZID=America/Chicago:20260325T083000
DTEND;TZID=America/Chicago:20260325T123000
DTSTAMP:20260423T145622
CREATED:20260303T210400Z
LAST-MODIFIED:20260309T145122Z
UID:12214-1774427400-1774441800@crecex.com
SUMMARY:Trámites y Documentos para Exportar e Importar
DESCRIPTION:Miércoles 25 de marzo\n8:30 am a 12:30 pm \nAsociados ₡50.000 + 2% IVA\nNo Asociados ₡62.000 + 2% IVA \nInscripciones: \nformacionempresarial@crecex.com \n(+506) 2253-0126 ext.118 \n¡Consulte por capacitaciones personalizadas!
URL:https://crecex.com/evento/tramites-y-documentos-para-exportar-e-importar/
LOCATION:San José
CATEGORIES:Capacitaciones Formación Empresarial
ATTACH;FMTTYPE=image/jpeg:https://crecex.com/wp-content/uploads/2026/03/Tramites-y-Documentos-para-Exportar-e-Importar-25-de-marzo.jpg
ORGANIZER;CN="CRECEX":MAILTO:formacion@crecex.com
END:VEVENT
END:VCALENDAR