BEGIN:VCALENDAR
VERSION:2.0
PRODID:-//Cámara de Comercio Exterior de Costa Rica y de Representantes de Casas Extranjeras - ECPv6.15.20//NONSGML v1.0//EN
CALSCALE:GREGORIAN
METHOD:PUBLISH
X-ORIGINAL-URL:https://crecex.com
X-WR-CALDESC:Eventos para Cámara de Comercio Exterior de Costa Rica y de Representantes de Casas Extranjeras
REFRESH-INTERVAL;VALUE=DURATION:PT1H
X-Robots-Tag:noindex
X-PUBLISHED-TTL:PT1H
BEGIN:VTIMEZONE
TZID:America/Chicago
BEGIN:DAYLIGHT
TZOFFSETFROM:-0600
TZOFFSETTO:-0500
TZNAME:CDT
DTSTART:20240310T080000
END:DAYLIGHT
BEGIN:STANDARD
TZOFFSETFROM:-0500
TZOFFSETTO:-0600
TZNAME:CST
DTSTART:20241103T070000
END:STANDARD
BEGIN:DAYLIGHT
TZOFFSETFROM:-0600
TZOFFSETTO:-0500
TZNAME:CDT
DTSTART:20250309T080000
END:DAYLIGHT
BEGIN:STANDARD
TZOFFSETFROM:-0500
TZOFFSETTO:-0600
TZNAME:CST
DTSTART:20251102T070000
END:STANDARD
BEGIN:DAYLIGHT
TZOFFSETFROM:-0600
TZOFFSETTO:-0500
TZNAME:CDT
DTSTART:20260308T080000
END:DAYLIGHT
BEGIN:STANDARD
TZOFFSETFROM:-0500
TZOFFSETTO:-0600
TZNAME:CST
DTSTART:20261101T070000
END:STANDARD
END:VTIMEZONE
BEGIN:VEVENT
DTSTART;TZID=America/Chicago:20251028T173000
DTEND;TZID=America/Chicago:20251028T203000
DTSTAMP:20260423T223832
CREATED:20251014T025731Z
LAST-MODIFIED:20251014T025731Z
UID:7077-1761672600-1761683400@crecex.com
SUMMARY:MÓDULO III-Análisis de Demanda
DESCRIPTION:CRECEX – Cámara de Comercio Exterior Especialista en Gestión Integral de Almacenes \n🔶 MÓDULO 3 –  Análisis de Demanda\n🔵 Sesiones virtuales vía Zoom \n🗓 Fecha: Martes y jueves\, 28 y 30 de octubre\n🕘 Horario: 5:30 p.m. a 8:30 p.m. \n💼 Inversión: \n\nAsociados ₡36.000 + 2% IVA\nNo Asociados ₡52.000 + 2% IVA\n\n📩 Inscripciones:\nformacion@crecex.com\n📞8478-4349 | 2253-0126 ext. 118 \n📢 ¡Conviértase en un experto en la Cadena de Suministros! \n 
URL:https://crecex.com/evento/modulo-iii-analisis-de-demanda/
LOCATION:CRECEX\, CRECEX Cámara de Comercio Exterior WXF3+462\, San José\, Curridabat\, Los Faroles\, 11801\, Curridabat\, San José\, Costa Rica
CATEGORIES:Capacitaciones Formación Empresarial
ATTACH;FMTTYPE=image/jpeg:https://crecex.com/wp-content/uploads/2025/10/MODULO-III-ANALISIS-DE-DEMANDA-MARTES-28-Y-30-DE-OCTUBRE.jpg
ORGANIZER;CN="CRECEX":MAILTO:formacion@crecex.com
END:VEVENT
END:VCALENDAR