BEGIN:VCALENDAR
VERSION:2.0
PRODID:-//Cámara de Comercio Exterior de Costa Rica y de Representantes de Casas Extranjeras - ECPv6.15.20//NONSGML v1.0//EN
CALSCALE:GREGORIAN
METHOD:PUBLISH
X-ORIGINAL-URL:https://crecex.com
X-WR-CALDESC:Eventos para Cámara de Comercio Exterior de Costa Rica y de Representantes de Casas Extranjeras
REFRESH-INTERVAL;VALUE=DURATION:PT1H
X-Robots-Tag:noindex
X-PUBLISHED-TTL:PT1H
BEGIN:VTIMEZONE
TZID:America/Chicago
BEGIN:DAYLIGHT
TZOFFSETFROM:-0600
TZOFFSETTO:-0500
TZNAME:CDT
DTSTART:20240310T080000
END:DAYLIGHT
BEGIN:STANDARD
TZOFFSETFROM:-0500
TZOFFSETTO:-0600
TZNAME:CST
DTSTART:20241103T070000
END:STANDARD
BEGIN:DAYLIGHT
TZOFFSETFROM:-0600
TZOFFSETTO:-0500
TZNAME:CDT
DTSTART:20250309T080000
END:DAYLIGHT
BEGIN:STANDARD
TZOFFSETFROM:-0500
TZOFFSETTO:-0600
TZNAME:CST
DTSTART:20251102T070000
END:STANDARD
BEGIN:DAYLIGHT
TZOFFSETFROM:-0600
TZOFFSETTO:-0500
TZNAME:CDT
DTSTART:20260308T080000
END:DAYLIGHT
BEGIN:STANDARD
TZOFFSETFROM:-0500
TZOFFSETTO:-0600
TZNAME:CST
DTSTART:20261101T070000
END:STANDARD
END:VTIMEZONE
BEGIN:VEVENT
DTSTART;VALUE=DATE:20251111
DTEND;VALUE=DATE:20251114
DTSTAMP:20260423T223827
CREATED:20251013T225346Z
LAST-MODIFIED:20251014T041322Z
UID:7064-1762819200-1763078399@crecex.com
SUMMARY:Capacitación Estratégica 100% Virtual para Empresarios\, PYMES y Profesionales
DESCRIPTION:📅 Fechas: 11\, 12 y 13 de noviembre\n📍 Modalidad: Live Webinar vía Zoom\nCapacita a tu equipo con expertos nacionales e internacionales en las áreas clave del crecimiento empresarial. Durante tres días intensivos de formación virtual\, tendrás acceso a 15 cursos especializados diseñados para actualizar tus conocimientos y potenciar tu negocio. \n💡 ¿Qué incluye esta capacitación virtual?\n\n\n🧩 5 cursos por día\, uno cada 2 horas. \n\n\n👨‍🏫 Facilitadores expertos con trayectoria en sectores clave. \n\n\n💻 Modalidad 100% virtual por Zoom\, sin desplazarte. \n\n\n🏷️ Inversión accesible: \n\n$25 por curso individual\n$150 por el paquete completo de 15 cursos\n\n\n\n  \n📚 Temas de los cursos\n🛠️ Habilidades y Gestión Empresarial\n\nNegociación efectiva\nLiderazgo y trabajo en equipo\nServicio al cliente de excelencia\nCómo franquiciar tu negocio\nResolución de conflictos\n\n🧾 Finanzas\, Legal y Compras\n\nFinanzas para no financieros\nContabilidad práctica\nContratación pública\nCompras estratégicas\nRegistros sanitarios\n\n💼 Competitividad e Innovación\n\nInteligencia artificial aplicada a negocios\nExcel para productividad\nSostenibilidad empresarial\nEstrategias de ventas\nGestión laboral\n\n✅ ¿A quién va dirigido?\nEste programa es ideal para: \n\nEmpresarios y gerentes generales\nProfesionales independientes\nResponsables de áreas como compras\, ventas\, RRHH\, finanzas y legal\nPYMES que buscan crecer con estrategias actuales y sostenibles\n\n🤝 Organiza CRECEX – Cámara de Comercio Exterior de Costa Rica\nCon el respaldo de aliados estratégicos como: \nNinja Excel\, Minerva Consultores\, Universidad FUNDEPOS\, EY\, BLP\, Bakertilly\, Grant Thornton\, RA Consultores\, entre otros. \n📩 Inscripciones abiertas\nReserva tu espacio hoy: \n\n📧 formacionempresarial@crecex.com\n📞 (+506) 8478-4349\n\nVisita: 🌐 www.crecex.com \n 
URL:https://crecex.com/evento/capacitacion-estrategica-100-virtual-para-empresarios-pymes-y-profesionales/
LOCATION:CRECEX\, CRECEX Cámara de Comercio Exterior WXF3+462\, San José\, Curridabat\, Los Faroles\, 11801\, Curridabat\, San José\, Costa Rica
CATEGORIES:Capacitaciones Formación Empresarial
ATTACH;FMTTYPE=image/jpeg:https://crecex.com/wp-content/uploads/2025/10/3-DIAS-DE-CAPACITACION-11-12-Y-13-NOVIEMBRE.jpg
ORGANIZER;CN="CRECEX":MAILTO:formacion@crecex.com
END:VEVENT
END:VCALENDAR