BEGIN:VCALENDAR
VERSION:2.0
PRODID:-//Cámara de Comercio Exterior de Costa Rica y de Representantes de Casas Extranjeras - ECPv6.15.20//NONSGML v1.0//EN
CALSCALE:GREGORIAN
METHOD:PUBLISH
X-WR-CALNAME:Cámara de Comercio Exterior de Costa Rica y de Representantes de Casas Extranjeras
X-ORIGINAL-URL:https://crecex.com
X-WR-CALDESC:Eventos para Cámara de Comercio Exterior de Costa Rica y de Representantes de Casas Extranjeras
REFRESH-INTERVAL;VALUE=DURATION:PT1H
X-Robots-Tag:noindex
X-PUBLISHED-TTL:PT1H
BEGIN:VTIMEZONE
TZID:America/Chicago
BEGIN:DAYLIGHT
TZOFFSETFROM:-0600
TZOFFSETTO:-0500
TZNAME:CDT
DTSTART:20240310T080000
END:DAYLIGHT
BEGIN:STANDARD
TZOFFSETFROM:-0500
TZOFFSETTO:-0600
TZNAME:CST
DTSTART:20241103T070000
END:STANDARD
BEGIN:DAYLIGHT
TZOFFSETFROM:-0600
TZOFFSETTO:-0500
TZNAME:CDT
DTSTART:20250309T080000
END:DAYLIGHT
BEGIN:STANDARD
TZOFFSETFROM:-0500
TZOFFSETTO:-0600
TZNAME:CST
DTSTART:20251102T070000
END:STANDARD
BEGIN:DAYLIGHT
TZOFFSETFROM:-0600
TZOFFSETTO:-0500
TZNAME:CDT
DTSTART:20260308T080000
END:DAYLIGHT
BEGIN:STANDARD
TZOFFSETFROM:-0500
TZOFFSETTO:-0600
TZNAME:CST
DTSTART:20261101T070000
END:STANDARD
END:VTIMEZONE
BEGIN:VEVENT
DTSTART;TZID=America/Chicago:20251030T080000
DTEND;TZID=America/Chicago:20251030T080000
DTSTAMP:20260424T014925
CREATED:20251014T034015Z
LAST-MODIFIED:20251014T034254Z
UID:7099-1761811200-1761811200@crecex.com
SUMMARY:Webinar Oportunidades de Negocio en España
DESCRIPTION:¿Le interesa hacer negocios en España o Portugal?\nNuestra oficina le acompaña para lograrlo.\nParticipe en el Webinar “Oportunidades de Negocio en España” y conozca los servicios que podemos ofrecerle para ampliar su red de proveedores y aliados. \n📅 30 de octubre\n🕗 8:00 a.m. (hora Costa Rica)\n📍 Vía Zoom\n🔗 Regístrese aquí: https://us02web.zoom.us/meeting/register/6XfPeYjNRF2a2V6Tk5jhrQ \n📞 Más información: 8418-6107\n✉️ comercioexterior@crecex.com
URL:https://crecex.com/evento/webinar-oportunidades-de-negocio-en-espana/
LOCATION:CRECEX\, CRECEX Cámara de Comercio Exterior WXF3+462\, San José\, Curridabat\, Los Faroles\, 11801\, Curridabat\, San José\, Costa Rica
CATEGORIES:Comercio Exterior,Eventos CRECEX,Webinars
ATTACH;FMTTYPE=image/jpeg:https://crecex.com/wp-content/uploads/2025/10/Arte-768x768-1.jpg
ORGANIZER;CN="CRECEX":MAILTO:formacion@crecex.com
END:VEVENT
END:VCALENDAR