BEGIN:VCALENDAR
VERSION:2.0
PRODID:-//Cámara de Comercio Exterior de Costa Rica y de Representantes de Casas Extranjeras - ECPv6.15.20//NONSGML v1.0//EN
CALSCALE:GREGORIAN
METHOD:PUBLISH
X-WR-CALNAME:Cámara de Comercio Exterior de Costa Rica y de Representantes de Casas Extranjeras
X-ORIGINAL-URL:https://crecex.com
X-WR-CALDESC:Eventos para Cámara de Comercio Exterior de Costa Rica y de Representantes de Casas Extranjeras
REFRESH-INTERVAL;VALUE=DURATION:PT1H
X-Robots-Tag:noindex
X-PUBLISHED-TTL:PT1H
BEGIN:VTIMEZONE
TZID:America/Chicago
BEGIN:DAYLIGHT
TZOFFSETFROM:-0600
TZOFFSETTO:-0500
TZNAME:CDT
DTSTART:20240310T080000
END:DAYLIGHT
BEGIN:STANDARD
TZOFFSETFROM:-0500
TZOFFSETTO:-0600
TZNAME:CST
DTSTART:20241103T070000
END:STANDARD
BEGIN:DAYLIGHT
TZOFFSETFROM:-0600
TZOFFSETTO:-0500
TZNAME:CDT
DTSTART:20250309T080000
END:DAYLIGHT
BEGIN:STANDARD
TZOFFSETFROM:-0500
TZOFFSETTO:-0600
TZNAME:CST
DTSTART:20251102T070000
END:STANDARD
BEGIN:DAYLIGHT
TZOFFSETFROM:-0600
TZOFFSETTO:-0500
TZNAME:CDT
DTSTART:20260308T080000
END:DAYLIGHT
BEGIN:STANDARD
TZOFFSETFROM:-0500
TZOFFSETTO:-0600
TZNAME:CST
DTSTART:20261101T070000
END:STANDARD
END:VTIMEZONE
BEGIN:VEVENT
DTSTART;TZID=America/Chicago:20251027T143000
DTEND;TZID=America/Chicago:20251027T180000
DTSTAMP:20260424T031136
CREATED:20251014T032311Z
LAST-MODIFIED:20251014T032519Z
UID:7088-1761575400-1761588000@crecex.com
SUMMARY:Conversatorio por el Empleo\, la Inversión y la Democracia
DESCRIPTION:📌Reserve su espacio📌\nLa UCCAEP le invita al Conversatorio por el Empleo\, la Inversión y la Democracia\, un espacio único para conocer de primera mano las propuestas y compromisos de los candidatos presidenciales en temas estratégicos para el desarrollo económico y el fortalecimiento democrático de Costa Rica. 🇨🇷 \n🗓️ Lunes 27 de octubre 2025\n⏰ 2:30 p.m. – 6:00 p.m.\n📍 Hotel Crowne Plaza \n⚠️ Cupos limitados.\n👉 Reserve su espacio completando el formulario aquí:\n🔗 https://forms.gle/XEvrtcqCQDxXcRBv6
URL:https://crecex.com/evento/conversatorio-por-el-empleo-la-inversion-y-la-democracia/
CATEGORIES:Comercio Exterior
ATTACH;FMTTYPE=image/jpeg:https://crecex.com/wp-content/uploads/2025/10/CONVERSATORIO-POR-EL-EMPLEO-LA-INVERSION-Y-DEMOCRACIA-768x593-1.jpeg
END:VEVENT
END:VCALENDAR